BEGIN:VCALENDAR
VERSION:2.0
PRODID:-//Happy Harmony Choir - ECPv6.15.20//NONSGML v1.0//EN
CALSCALE:GREGORIAN
METHOD:PUBLISH
X-WR-CALNAME:Happy Harmony Choir
X-ORIGINAL-URL:https://happyharmonychoir.ca
X-WR-CALDESC:Events for Happy Harmony Choir
REFRESH-INTERVAL;VALUE=DURATION:PT1H
X-Robots-Tag:noindex
X-PUBLISHED-TTL:PT1H
BEGIN:VTIMEZONE
TZID:UTC
BEGIN:STANDARD
TZOFFSETFROM:+0000
TZOFFSETTO:+0000
TZNAME:UTC
DTSTART:20230101T000000
END:STANDARD
END:VTIMEZONE
BEGIN:VTIMEZONE
TZID:America/New_York
BEGIN:DAYLIGHT
TZOFFSETFROM:-0500
TZOFFSETTO:-0400
TZNAME:EDT
DTSTART:20230312T070000
END:DAYLIGHT
BEGIN:STANDARD
TZOFFSETFROM:-0400
TZOFFSETTO:-0500
TZNAME:EST
DTSTART:20231105T060000
END:STANDARD
BEGIN:DAYLIGHT
TZOFFSETFROM:-0500
TZOFFSETTO:-0400
TZNAME:EDT
DTSTART:20240310T070000
END:DAYLIGHT
BEGIN:STANDARD
TZOFFSETFROM:-0400
TZOFFSETTO:-0500
TZNAME:EST
DTSTART:20241103T060000
END:STANDARD
BEGIN:DAYLIGHT
TZOFFSETFROM:-0500
TZOFFSETTO:-0400
TZNAME:EDT
DTSTART:20250309T070000
END:DAYLIGHT
BEGIN:STANDARD
TZOFFSETFROM:-0400
TZOFFSETTO:-0500
TZNAME:EST
DTSTART:20251102T060000
END:STANDARD
END:VTIMEZONE
BEGIN:VEVENT
DTSTART;TZID=UTC:20240822T110000
DTEND;TZID=UTC:20240822T133000
DTSTAMP:20260425T120434
CREATED:20240411T075700Z
LAST-MODIFIED:20240411T075700Z
UID:1453-1724324400-1724333400@happyharmonychoir.ca
SUMMARY:Probus Annual Picnic - HH Belleville
DESCRIPTION:Happy Harmony Belleville has been asked to sing again at the Probus annual picnic in Zwick’s Park\, Belleville. \nThe concert will be at 11:00 a.m. on Thursday\, August 22\, 2024.
URL:https://happyharmonychoir.ca/event/probus-annual-picnic-hh-belleville/
LOCATION:Zwicks Park\, Ontario\, Canada
END:VEVENT
BEGIN:VEVENT
DTSTART;TZID=America/New_York:20240828T163000
DTEND;TZID=America/New_York:20240828T173000
DTSTAMP:20260425T120434
CREATED:20240816T172553Z
LAST-MODIFIED:20240816T172553Z
UID:1486-1724862600-1724866200@happyharmonychoir.ca
SUMMARY:Lindsay Brant PhD Dissertation Celebration- HH Belleville
DESCRIPTION:HH Belleville Choir was asked to sing as part of Lindsay Brant’s PhD Dissertation Celebration! \nWednesday\, August 28th\, 4:30pm \nLocation: All Saints Church and Queen Anne’s Parish\, Tyendinaga Mohawk Territory\, \n1295 Ridge Road\, Deseronto\, ON\, K0K 1X0 \n 
URL:https://happyharmonychoir.ca/event/lindsay-brant-phd-dissertation-celebration-hh-belleville/
LOCATION:All Saints Church\, 1295 Ridge Rd\, Deseronto\, Ontario\, K0K1X0\, Canada
END:VEVENT
END:VCALENDAR