BEGIN:VCALENDAR
VERSION:2.0
PRODID:-//Happy Harmony Choir - ECPv6.15.20//NONSGML v1.0//EN
CALSCALE:GREGORIAN
METHOD:PUBLISH
X-WR-CALNAME:Happy Harmony Choir
X-ORIGINAL-URL:https://happyharmonychoir.ca
X-WR-CALDESC:Events for Happy Harmony Choir
REFRESH-INTERVAL;VALUE=DURATION:PT1H
X-Robots-Tag:noindex
X-PUBLISHED-TTL:PT1H
BEGIN:VTIMEZONE
TZID:UTC
BEGIN:STANDARD
TZOFFSETFROM:+0000
TZOFFSETTO:+0000
TZNAME:UTC
DTSTART:20210101T000000
END:STANDARD
END:VTIMEZONE
BEGIN:VEVENT
DTSTART;TZID=UTC:20221201T143000
DTEND;TZID=UTC:20221201T153000
DTSTAMP:20260424T184915
CREATED:20220615T000858Z
LAST-MODIFIED:20220908T071648Z
UID:1213-1669905000-1669908600@happyharmonychoir.ca
SUMMARY:Christmas Meeting- Trenton Probus - Private Event
DESCRIPTION:This concert will be a mix of fifties-sixties songs and Christmas music.  \nDate: Thursday\, December 1\, 2:30pm to 3:30pm  \nThis is a Private Event.  \nLocation: Trent Port Museum 55 King Street\, Trenton\, ON K8V 3V9 \nFree parking and take the elevator to the 2nd floor.
URL:https://happyharmonychoir.ca/event/christmas-meeting-trenton-probus-private-event/
LOCATION:Trent Port Museum\, 55 King Street\, Trenton\, Ontario\, K8V3V9\, Canada
END:VEVENT
BEGIN:VEVENT
DTSTART;TZID=UTC:20221203T190000
DTEND;TZID=UTC:20221203T203000
DTSTAMP:20260424T184915
CREATED:20220924T032841Z
LAST-MODIFIED:20220924T032841Z
UID:1251-1670094000-1670099400@happyharmonychoir.ca
SUMMARY:St Mark’s United Church
DESCRIPTION:Location: St. Marks United Church\, Cannifton Road\, Belleville \nDate: Saturday\, December 3\, 2022  \nTime : 7:00 p.m. – 8:30 p.m. \nSongs: fifties\, sixties with some Christmas favorites \nAdmission: free will donation to the St. Mark’s General Fund
URL:https://happyharmonychoir.ca/event/st-marks-united-church/
LOCATION:St Mark’s United Church\, 237 Cannifton Road \, Belleville\, Ontario\, K0K 1K0\, Canada
END:VEVENT
BEGIN:VEVENT
DTSTART;TZID=UTC:20221207T190000
DTEND;TZID=UTC:20221207T210000
DTSTAMP:20260424T184915
CREATED:20221126T020615Z
LAST-MODIFIED:20221127T051857Z
UID:1268-1670439600-1670446800@happyharmonychoir.ca
SUMMARY:Happy Harmony Cobourg - Friends & Family Concert!
DESCRIPTION:Please join Happy Harmony Cobourg on December 7th at 7pm for a free concert for family and friends! \nLocation: 440 King Street East\, Cobourg\, ON \nDonations of non-perishable food items will be accepted for a local food bank.
URL:https://happyharmonychoir.ca/event/happy-harmony-cobourg-friends-family-concert/
LOCATION:Grace Christian Reformed Church\, 440 King Street East\, Cobourg\, Ontario\, K9A1M6\, Canada
END:VEVENT
BEGIN:VEVENT
DTSTART;TZID=UTC:20221208T110000
DTEND;TZID=UTC:20221208T120000
DTSTAMP:20260424T184915
CREATED:20220911T062623Z
LAST-MODIFIED:20220911T062623Z
UID:1242-1670497200-1670500800@happyharmonychoir.ca
SUMMARY:Belleville Probus Club Christmas Concert
DESCRIPTION:Happy Harmony Choir is pleased to sing for the Belleville Probus Club on Thursday\, December 8\, 2022. \nTime: 11:15 a.m. – 12:00  \nLocation: The Grand\, formerly known as the Old Greek Hall\n                    70 Harder Drive\, Belleville Ontario\, K0K 1H2 \nThe music for the concert will consist of favorites from the fifties and sixties and songs to celebrate the Christmas season.  \nThis is a private event.
URL:https://happyharmonychoir.ca/event/belleville-probus-club-christmas-concert/
LOCATION:The Grand\, 70 Harder Drive\, Belleville\, Ontario\, K0K 1H2\, Canada
END:VEVENT
BEGIN:VEVENT
DTSTART;TZID=UTC:20221210T110000
DTEND;TZID=UTC:20221210T130000
DTSTAMP:20260424T184915
CREATED:20221003T014441Z
LAST-MODIFIED:20221127T052326Z
UID:1257-1670670000-1670677200@happyharmonychoir.ca
SUMMARY:Carolling the Streets of Brighton
DESCRIPTION:Happy Harmony Cobourg will be carolling in the streets of Brighton on December 10th from 11am-1pm!  \nChoir members will meet at the arena at 11am (main st E).
URL:https://happyharmonychoir.ca/event/carolling-the-streets-of-brighton/
LOCATION:Brighton
END:VEVENT
BEGIN:VEVENT
DTSTART;TZID=UTC:20221211T130000
DTEND;TZID=UTC:20221211T140000
DTSTAMP:20260424T184915
CREATED:20221121T202129Z
LAST-MODIFIED:20221121T202129Z
UID:1264-1670763600-1670767200@happyharmonychoir.ca
SUMMARY:Enchanted Holiday Market
DESCRIPTION:Join Happy Harmony in spreading some holiday cheer at the Enchanted Holiday Market on Sunday December 11\, 2022 from 1pm-2pm! \nVictoria and Front Street\, Belleville
URL:https://happyharmonychoir.ca/event/enchanted-holiday-market/
LOCATION:ON
END:VEVENT
END:VCALENDAR