BEGIN:VCALENDAR
VERSION:2.0
PRODID:-//Happy Harmony Choir - ECPv6.15.20//NONSGML v1.0//EN
CALSCALE:GREGORIAN
METHOD:PUBLISH
X-ORIGINAL-URL:https://happyharmonychoir.ca
X-WR-CALDESC:Events for Happy Harmony Choir
REFRESH-INTERVAL;VALUE=DURATION:PT1H
X-Robots-Tag:noindex
X-PUBLISHED-TTL:PT1H
BEGIN:VTIMEZONE
TZID:UTC
BEGIN:STANDARD
TZOFFSETFROM:+0000
TZOFFSETTO:+0000
TZNAME:UTC
DTSTART:20210101T000000
END:STANDARD
END:VTIMEZONE
BEGIN:VEVENT
DTSTART;TZID=UTC:20220916T140000
DTEND;TZID=UTC:20220916T150000
DTSTAMP:20260425T000052
CREATED:20220830T033637Z
LAST-MODIFIED:20220830T033637Z
UID:1219-1663336800-1663340400@happyharmonychoir.ca
SUMMARY:Cobourg HH Performance at Extendicare Cobourg
DESCRIPTION:Happy Harmony Cobourg has been invited to perform for Extendicare Cobourg on Friday\, September 16th at 2pm.
URL:https://happyharmonychoir.ca/event/cobourg-hh-performance-at-extendicare-cobourg/
LOCATION:Extendicare Cobourg\, 130 Densmore Rd \, Cobourg \, Ontario\, K9A5W2\, Canada
END:VEVENT
END:VCALENDAR