BEGIN:VCALENDAR
VERSION:2.0
PRODID:-//Happy Harmony Choir - ECPv6.15.20//NONSGML v1.0//EN
CALSCALE:GREGORIAN
METHOD:PUBLISH
X-ORIGINAL-URL:https://happyharmonychoir.ca
X-WR-CALDESC:Events for Happy Harmony Choir
REFRESH-INTERVAL;VALUE=DURATION:PT1H
X-Robots-Tag:noindex
X-PUBLISHED-TTL:PT1H
BEGIN:VTIMEZONE
TZID:UTC
BEGIN:STANDARD
TZOFFSETFROM:+0000
TZOFFSETTO:+0000
TZNAME:UTC
DTSTART:20210101T000000
END:STANDARD
END:VTIMEZONE
BEGIN:VEVENT
DTSTART;TZID=UTC:20220514T140000
DTEND;TZID=UTC:20220514T160000
DTSTAMP:20260425T084341
CREATED:20220304T010128Z
LAST-MODIFIED:20220304T010134Z
UID:1176-1652536800-1652544000@happyharmonychoir.ca
SUMMARY:St James Community Kitchen Fundraiser
DESCRIPTION:Happy Harmony Belleville Choir has been asked to perform at the St. James Anglican Fellowship Church on Saturday\, May 14th at 2:00pm. \nThis event is to raise funds for the St. James Community Kitchen.  \nAddress:\n15 South Street\nTrenton\, ON
URL:https://happyharmonychoir.ca/event/st-james-community-kitchen-fundraiser/
LOCATION:St James Anglican Church\, 15 South St \, Trenton\, Ontario\, Canada
END:VEVENT
END:VCALENDAR