BEGIN:VCALENDAR
VERSION:2.0
PRODID:-//Happy Harmony Choir - ECPv6.15.20//NONSGML v1.0//EN
CALSCALE:GREGORIAN
METHOD:PUBLISH
X-WR-CALNAME:Happy Harmony Choir
X-ORIGINAL-URL:https://happyharmonychoir.ca
X-WR-CALDESC:Events for Happy Harmony Choir
REFRESH-INTERVAL;VALUE=DURATION:PT1H
X-Robots-Tag:noindex
X-PUBLISHED-TTL:PT1H
BEGIN:VTIMEZONE
TZID:America/New_York
BEGIN:DAYLIGHT
TZOFFSETFROM:-0500
TZOFFSETTO:-0400
TZNAME:EDT
DTSTART:20240310T070000
END:DAYLIGHT
BEGIN:STANDARD
TZOFFSETFROM:-0400
TZOFFSETTO:-0500
TZNAME:EST
DTSTART:20241103T060000
END:STANDARD
BEGIN:DAYLIGHT
TZOFFSETFROM:-0500
TZOFFSETTO:-0400
TZNAME:EDT
DTSTART:20250309T070000
END:DAYLIGHT
BEGIN:STANDARD
TZOFFSETFROM:-0400
TZOFFSETTO:-0500
TZNAME:EST
DTSTART:20251102T060000
END:STANDARD
BEGIN:DAYLIGHT
TZOFFSETFROM:-0500
TZOFFSETTO:-0400
TZNAME:EDT
DTSTART:20260308T070000
END:DAYLIGHT
BEGIN:STANDARD
TZOFFSETFROM:-0400
TZOFFSETTO:-0500
TZNAME:EST
DTSTART:20261101T060000
END:STANDARD
BEGIN:DAYLIGHT
TZOFFSETFROM:-0500
TZOFFSETTO:-0400
TZNAME:EDT
DTSTART:20270314T070000
END:DAYLIGHT
BEGIN:STANDARD
TZOFFSETFROM:-0400
TZOFFSETTO:-0500
TZNAME:EST
DTSTART:20271107T060000
END:STANDARD
END:VTIMEZONE
BEGIN:VEVENT
DTSTART;TZID=America/New_York:20251119T183000
DTEND;TZID=America/New_York:20251119T203000
DTSTAMP:20260425T063231
CREATED:20251029T191701Z
LAST-MODIFIED:20251102T143452Z
UID:4711-1763577000-1763584200@happyharmonychoir.ca
SUMMARY:Port Hope Extendicare Residence
DESCRIPTION:Wed. November 19th\, 6:30 pm – Port Hope Extendicare Residence\, 360 Croft Street\, Port Hope
URL:https://happyharmonychoir.ca/event/port-hope-extendicare-residence/
LOCATION:Port Hope Extendicare Residence\, 360 Croft Street\, Port Hope\, Ontario\, L1A4K8\, Canada
ATTACH;FMTTYPE=image/jpeg:https://happyharmonychoir.ca/wp-content/uploads/2024/12/Logo.jpg
ORGANIZER;CN="Brittany Brant":MAILTO:info@HappyHarmonyChoir.com
END:VEVENT
BEGIN:VEVENT
DTSTART;TZID=America/New_York:20251121T180000
DTEND;TZID=America/New_York:20251121T190000
DTSTAMP:20260425T063231
CREATED:20251019T164202Z
LAST-MODIFIED:20251019T164202Z
UID:4707-1763748000-1763751600@happyharmonychoir.ca
SUMMARY:Light Up Brighton in Memorial Park on Main Street
DESCRIPTION:Happy Harmony will be performing at Light Up Brighton in Memorial Park on Main Street. \nWe will sing a variety of our music including lots of Christmas songs as the lights are turned on in the downtown park and the Santa Claus parade begins.
URL:https://happyharmonychoir.ca/event/light-up-brighton-in-memorial-park-on-main-street/
LOCATION:Memorial Park Brighton\, Main Street and Veteran’s Way\, Brighton \, Ontario
ATTACH;FMTTYPE=image/jpeg:https://happyharmonychoir.ca/wp-content/uploads/2025/10/lights-scaled.jpeg
ORGANIZER;CN="Brittany Brant":MAILTO:info@HappyHarmonyChoir.com
END:VEVENT
BEGIN:VEVENT
DTSTART;TZID=America/New_York:20251127T190000
DTEND;TZID=America/New_York:20251127T210000
DTSTAMP:20260425T063231
CREATED:20250915T130839Z
LAST-MODIFIED:20250915T130839Z
UID:4667-1764270000-1764277200@happyharmonychoir.ca
SUMMARY:Christmas Combo Concert with donations to Church Community Programs
DESCRIPTION:Thursday\, November 27\, 7:00 p.m  \nSt. Mark’s United Church\, Cannifton: Christmas Combo Concert with donations to Church Community     Programs
URL:https://happyharmonychoir.ca/event/christmas-combo-concert-with-donations-to-church-community-programs/
LOCATION:St Mark’s United Church\, 237 Cannifton Road \, Belleville\, Ontario\, K0K 1K0\, Canada
ATTACH;FMTTYPE=image/jpeg:https://happyharmonychoir.ca/wp-content/uploads/2024/12/Logo.jpg
ORGANIZER;CN="Brittany Brant":MAILTO:info@HappyHarmonyChoir.com
END:VEVENT
BEGIN:VEVENT
DTSTART;TZID=America/New_York:20251127T190000
DTEND;TZID=America/New_York:20251127T210000
DTSTAMP:20260425T063231
CREATED:20251002T154736Z
LAST-MODIFIED:20251002T155434Z
UID:4702-1764270000-1764277200@happyharmonychoir.ca
SUMMARY:Evening of 50's\, 60's and Christmas Music
DESCRIPTION:Happy Harmony Choir presents An Evening of 50’s\, 60’s and Christmas Music \nLIVE MUSIC – FREE PARKING\nThursday\, November 27th\, 2025\n@ 7 p.m. (Doors open @ 6:30 p.m.\nSt. Mark’s United Church\n237 Cannifton Road North \nFree Will Donation\n50% to Food for Learning\n50% to St. Mark’s
URL:https://happyharmonychoir.ca/event/evening-of-50s-60s-and-christmas-music/
LOCATION:St Mark’s United Church\, 237 Cannifton Road \, Belleville\, Ontario\, K0K 1K0\, Canada
ATTACH;FMTTYPE=image/jpeg:https://happyharmonychoir.ca/wp-content/uploads/2025/10/hhc.jpg
ORGANIZER;CN="Brittany Brant":MAILTO:info@HappyHarmonyChoir.com
END:VEVENT
BEGIN:VEVENT
DTSTART;TZID=America/New_York:20251204T190000
DTEND;TZID=America/New_York:20251204T210000
DTSTAMP:20260425T063231
CREATED:20250915T131014Z
LAST-MODIFIED:20250915T131014Z
UID:4669-1764874800-1764882000@happyharmonychoir.ca
SUMMARY:Belleville Christmas Combo Concert
DESCRIPTION:Thursday\, December 4\, 7:00 p.m  \nAldersgate\, Belleville Christmas Combo Concert
URL:https://happyharmonychoir.ca/event/belleville-christmas-combo-concert/
LOCATION:Aldersgate Village\, 7 Aldersgate Dr \, Belleville\, Ontario\, Canada
ATTACH;FMTTYPE=image/jpeg:https://happyharmonychoir.ca/wp-content/uploads/2024/12/Logo.jpg
ORGANIZER;CN="Brittany Brant":MAILTO:info@HappyHarmonyChoir.com
END:VEVENT
BEGIN:VEVENT
DTSTART;TZID=America/New_York:20251206T140000
DTEND;TZID=America/New_York:20251206T160000
DTSTAMP:20260425T063231
CREATED:20250915T131332Z
LAST-MODIFIED:20250915T131412Z
UID:4671-1765029600-1765036800@happyharmonychoir.ca
SUMMARY:Fundraiser for the Community Development Council\, Belleville
DESCRIPTION:St. Matthews Church\, Belleville \nThis afternoon ticketed event is a fundraiser for the Community Development Council\, Belleville. The CDC sponsors the Good Food Boxes\, the Good Baby Boxes and the Community Gardens project in the Quinte area. Three local choirs will be singing at this event: Shout Sister\, The Military Wive’s Choir and the Happy Harmony Women’s Choirs.  \nAll members of the Belleville\, Cobourg and Oshawa Happy Harmony Choirs are invited to participate in this event.  \nDetails of the schedule will be announced shortly but the projected start time is 2:00 p.m. This will provide a wonderful opportunity to hear more from two local choirs who also participate in Bellefest.
URL:https://happyharmonychoir.ca/event/fundraiser-for-the-community-development-council-belleville/
LOCATION:St Matthew’s United Church\, 25 Holloway Street\, Belleville\, Ontario\, Canada
ATTACH;FMTTYPE=image/webp:https://happyharmonychoir.ca/wp-content/uploads/2025/09/CDCLogo.webp
ORGANIZER;CN="Brittany Brant":MAILTO:info@HappyHarmonyChoir.com
END:VEVENT
BEGIN:VEVENT
DTSTART;TZID=America/New_York:20251210T183000
DTEND;TZID=America/New_York:20251210T200000
DTSTAMP:20260425T063231
CREATED:20251203T165436Z
LAST-MODIFIED:20251209T214434Z
UID:4732-1765391400-1765396800@happyharmonychoir.ca
SUMMARY:***CANCELLED*** Cobourg performance at Brighton Retirement Living
DESCRIPTION:***CANCELLED*** Dec 10th\, 6:30 pm – Cobourg performance at Brighton Retirement Living\, 291 Main Street\, Brighton\n***EVENT HAS BEEN CANCELLED***
URL:https://happyharmonychoir.ca/event/cobourg-performance-at-brighton-retirement-living/
LOCATION:Brighton Retirement Home\, 291 Main St\, Brighton\, Ontario\, Canada
ATTACH;FMTTYPE=image/jpeg:https://happyharmonychoir.ca/wp-content/uploads/2024/12/Logo.jpg
ORGANIZER;CN="Brittany Brant":MAILTO:info@HappyHarmonyChoir.com
END:VEVENT
BEGIN:VEVENT
DTSTART;TZID=America/New_York:20251213T130000
DTEND;TZID=America/New_York:20251213T160000
DTSTAMP:20260425T063231
CREATED:20250828T145920Z
LAST-MODIFIED:20250828T145920Z
UID:4655-1765630800-1765641600@happyharmonychoir.ca
SUMMARY:Beaufort Pub – HH Belleville
DESCRIPTION:Saturday\, December 13\, 1:00-4:00 p.m\nBeaufort Pub – HH Belleville
URL:https://happyharmonychoir.ca/event/beaufort-pub-hh-belleville/
LOCATION:The Beaufort Pub\, 173 Dundas St E\, Belleville\, Ontario\, Canada
ATTACH;FMTTYPE=image/webp:https://happyharmonychoir.ca/wp-content/uploads/2025/08/beaufort-pub.webp
ORGANIZER;CN="Brittany Brant":MAILTO:info@HappyHarmonyChoir.com
END:VEVENT
BEGIN:VEVENT
DTSTART;TZID=America/New_York:20260308T120000
DTEND;TZID=America/New_York:20260308T133000
DTSTAMP:20260425T063231
CREATED:20260207T180605Z
LAST-MODIFIED:20260207T180605Z
UID:4752-1772971200-1772976600@happyharmonychoir.ca
SUMMARY:INTERNATIONAL WOMEN'S DAY
DESCRIPTION:INTERNATIONAL WOMEN’S DAY\nHappy Harmony is very excited about being asked to perform for  International Women’s Day on March 8\, 2026. The event will be held at the Lion’s Club\, 77 Campbell Street\, Trenton\, Ontario and begin at 12:00 p.m.
URL:https://happyharmonychoir.ca/event/international-womens-day/
LOCATION:Lion’s Club\, 77 Campbell St\, Trenton\, Ontario\, Canada
ATTACH;FMTTYPE=image/jpeg:https://happyharmonychoir.ca/wp-content/uploads/2024/12/Logo.jpg
ORGANIZER;CN="Brittany Brant":MAILTO:info@HappyHarmonyChoir.com
END:VEVENT
BEGIN:VEVENT
DTSTART;TZID=America/New_York:20260329T140000
DTEND;TZID=America/New_York:20260329T153000
DTSTAMP:20260425T063231
CREATED:20260209T144331Z
LAST-MODIFIED:20260209T144331Z
UID:4755-1774792800-1774798200@happyharmonychoir.ca
SUMMARY:Cobourg HH Fundraiser Concert
DESCRIPTION:Sunday March 29th at 2 pm\nEbenezer United Church\, 1669 Courtice Rd (corner of Courtice Rd and Bloor St) \n***Admission is free will offering
URL:https://happyharmonychoir.ca/event/cobourg-hh-fundraiser-concert/
LOCATION:Ebenezer United Church\, 1669 Courtice Rd \, Courtice \, Ontario\, Canada
ATTACH;FMTTYPE=image/jpeg:https://happyharmonychoir.ca/wp-content/uploads/2024/12/Logo.jpg
ORGANIZER;CN="Brittany Brant":MAILTO:info@HappyHarmonyChoir.com
END:VEVENT
BEGIN:VEVENT
DTSTART;TZID=America/New_York:20260411T140000
DTEND;TZID=America/New_York:20260411T150000
DTSTAMP:20260425T063231
CREATED:20251126T145555Z
LAST-MODIFIED:20260209T234159Z
UID:4726-1775916000-1775919600@happyharmonychoir.ca
SUMMARY:HASTINGS MANOR
DESCRIPTION:LOCATION: HASTINGS MANOR\, 476 Dundas Street West\,  Belleville\, Ontario \nDATE  AND TIME: Saturday\, April 11\, 2026 at 2:00 p.m.
URL:https://happyharmonychoir.ca/event/hastings-manor-april-2026/
LOCATION:Hastings Manor\, 476 Dundas Street West \, Belleville\, Ontario\, K8n5b2\, Canada
ATTACH;FMTTYPE=image/jpeg:https://happyharmonychoir.ca/wp-content/uploads/2024/12/Logo.jpg
ORGANIZER;CN="Brittany Brant":MAILTO:info@HappyHarmonyChoir.com
END:VEVENT
BEGIN:VEVENT
DTSTART;TZID=America/New_York:20260416T190000
DTEND;TZID=America/New_York:20260416T203000
DTSTAMP:20260425T063231
CREATED:20260110T212729Z
LAST-MODIFIED:20260115T165349Z
UID:4742-1776366000-1776371400@happyharmonychoir.ca
SUMMARY:WESTGATE LODGE NURSING HOME
DESCRIPTION:WESTGATE LODGE NURSING HOME: 37 WILKIE STREET\, BELLEVILLE ONTARIO. Happy Harmony will sing at 7:00 p.m.
URL:https://happyharmonychoir.ca/event/westgate-lodge-nursing-home/
LOCATION:WESTGATE LODGE NURSING HOME\, 37 WILKIE STREET\, BELLEVILLE\, ON\, K8P 4E4\, Canada
ATTACH;FMTTYPE=image/png:https://happyharmonychoir.ca/wp-content/uploads/2024/12/Logo-white.png
ORGANIZER;CN="Brittany Brant":MAILTO:info@HappyHarmonyChoir.com
END:VEVENT
BEGIN:VEVENT
DTSTART;TZID=America/New_York:20260422T140000
DTEND;TZID=America/New_York:20260422T153000
DTSTAMP:20260425T063231
CREATED:20260226T165934Z
LAST-MODIFIED:20260226T170142Z
UID:4772-1776866400-1776871800@happyharmonychoir.ca
SUMMARY:Cobourg Choir at the VON Adult Daycare Program
DESCRIPTION:Cobourg choir\, we have agreed to sing at the VON adult daycare program at 800 D’arcy St\, Bldg 18 in Cobourg\, on Wednesday\, April 22nd at 2 p m.
URL:https://happyharmonychoir.ca/event/cobourg-choir-von-adult-daycare-program/
LOCATION:VON Adult Daycare Program\, 700 D'Arcy Street Bldg 18\, Cobourg\, Ontario\, Canada
ATTACH;FMTTYPE=image/jpeg:https://happyharmonychoir.ca/wp-content/uploads/2024/12/Logo.jpg
ORGANIZER;CN="Brittany Brant":MAILTO:info@HappyHarmonyChoir.com
END:VEVENT
BEGIN:VEVENT
DTSTART;TZID=America/New_York:20260502T140000
DTEND;TZID=America/New_York:20260502T153000
DTSTAMP:20260425T063231
CREATED:20260222T163137Z
LAST-MODIFIED:20260222T163137Z
UID:4769-1777730400-1777735800@happyharmonychoir.ca
SUMMARY:Happy Harmony Choir at Seasons Retirement Community
DESCRIPTION:Seasons Retirement Community\, Trenton Ontario \nSaturday\, May 2\, 2026 at 2:00 p.m.
URL:https://happyharmonychoir.ca/event/happy-harmony-choir-at-seasons-retirement-community/
LOCATION:Seasons Retirement Home\, 344 Dufferin Avenue\, Trenton\, Ontario\, K8V5G9\, Canada
ATTACH;FMTTYPE=image/webp:https://happyharmonychoir.ca/wp-content/uploads/2026/02/seasons.webp
ORGANIZER;CN="Brittany Brant":MAILTO:info@HappyHarmonyChoir.com
END:VEVENT
BEGIN:VEVENT
DTSTART;TZID=America/New_York:20260507T190000
DTEND;TZID=America/New_York:20260507T203000
DTSTAMP:20260425T063231
CREATED:20251110T142200Z
LAST-MODIFIED:20251110T142200Z
UID:4716-1778180400-1778185800@happyharmonychoir.ca
SUMMARY:Island Park Retirement Residence\, Campbellford
DESCRIPTION:Island Park Retirement Residence\, Campbellford\nThursday\, May 7 2026 at 7:00 p.m.
URL:https://happyharmonychoir.ca/event/island-park-retirement-residence-campbellford/
LOCATION:Aspira Island Park Retirement Living\, 18 Trent Drive\, Campbellford\, Ontario\, Canada
ATTACH;FMTTYPE=image/jpeg:https://happyharmonychoir.ca/wp-content/uploads/2025/11/island-park-campbellford.jpeg
ORGANIZER;CN="Brittany Brant":MAILTO:info@HappyHarmonyChoir.com
END:VEVENT
BEGIN:VEVENT
DTSTART;TZID=America/New_York:20260509T140000
DTEND;TZID=America/New_York:20260509T153000
DTSTAMP:20260425T063231
CREATED:20260228T181604Z
LAST-MODIFIED:20260228T181604Z
UID:4774-1778335200-1778340600@happyharmonychoir.ca
SUMMARY:Caressant Care Residence
DESCRIPTION:Caressant Care Residence\, 58 Bursthall Street\, Marmora on Saturday\, May 9\, 2026 at 2:00 p.m.
URL:https://happyharmonychoir.ca/event/caressant-care-residence/
LOCATION:Caressant Care Residence\, 58 Bursthall St\, Marmora\,\, ON\, K0K 2M0\, Canada
ATTACH;FMTTYPE=image/jpeg:https://happyharmonychoir.ca/wp-content/uploads/2024/12/Logo.jpg
ORGANIZER;CN="Brittany Brant":MAILTO:info@HappyHarmonyChoir.com
END:VEVENT
BEGIN:VEVENT
DTSTART;TZID=America/New_York:20260530T190000
DTEND;TZID=America/New_York:20260530T210000
DTSTAMP:20260425T063231
CREATED:20260213T192400Z
LAST-MODIFIED:20260421T151409Z
UID:4766-1780167600-1780174800@happyharmonychoir.ca
SUMMARY:HH year-end performance ﻿2026
DESCRIPTION:Grace Christian Reform Church in Cobourg – Saturday\, May 30th for a joint choir performance from 7:00 to 9:00 PM. Put it in your calendars! \nClick Here for Poster PDF Download
URL:https://happyharmonychoir.ca/event/hh-year-end-performance-2026/
LOCATION:Grace Christian Reformed Church\, 440 King Street East\, Cobourg\, Ontario\, K9A1M6\, Canada
ATTACH;FMTTYPE=image/jpeg:https://happyharmonychoir.ca/wp-content/uploads/2026/02/may-30-2026.jpg
ORGANIZER;CN="Brittany Brant":MAILTO:info@HappyHarmonyChoir.com
END:VEVENT
BEGIN:VEVENT
DTSTART;TZID=America/New_York:20260606T140000
DTEND;TZID=America/New_York:20260606T153000
DTSTAMP:20260425T063231
CREATED:20260115T165726Z
LAST-MODIFIED:20260302T162756Z
UID:4747-1780754400-1780759800@happyharmonychoir.ca
SUMMARY:Crown Ridge Retirement Home
DESCRIPTION:Happy Harmony is pleased to be singing for the residents of Crown Ridge\, Trenton on Saturday\, June 6 at 2:00 p.m.
URL:https://happyharmonychoir.ca/event/crown-ridge-retirement-home/
LOCATION:Crown Ridge Retirement Home\, 106 Crown Street\, Trenton\, Ontario\, Canada
ATTACH;FMTTYPE=image/png:https://happyharmonychoir.ca/wp-content/uploads/2024/12/Logo-white.png
ORGANIZER;CN="Brittany Brant":MAILTO:info@HappyHarmonyChoir.com
END:VEVENT
BEGIN:VEVENT
DTSTART;TZID=America/New_York:20260610T103000
DTEND;TZID=America/New_York:20260610T233000
DTSTAMP:20260425T063231
CREATED:20251118T201542Z
LAST-MODIFIED:20251118T201542Z
UID:4722-1781087400-1781134200@happyharmonychoir.ca
SUMMARY:Owen Gibb Community Centre
DESCRIPTION:Time Requested: 10:30 a.m. Arrival. Concert can be 45 minutes to 60 minutes in length. \nBelleville and Cobourg HH members are encouraged to join us for the performance.\n—
URL:https://happyharmonychoir.ca/event/owen-gibb-community-centre/
LOCATION:Owen Gibb Community Centre\, 75 Elizabeth Street\, Brighton\, Ontario\, K0K 1H0\, Canada
ATTACH;FMTTYPE=image/jpeg:https://happyharmonychoir.ca/wp-content/uploads/2024/12/Logo.jpg
ORGANIZER;CN="Brittany Brant":MAILTO:info@HappyHarmonyChoir.com
END:VEVENT
BEGIN:VEVENT
DTSTART;TZID=America/New_York:20261006T101500
DTEND;TZID=America/New_York:20261006T120000
DTSTAMP:20260425T063231
CREATED:20260211T150530Z
LAST-MODIFIED:20260211T151918Z
UID:4758-1791281700-1791288000@happyharmonychoir.ca
SUMMARY:AUTUMN ESCAPE: PROBUS DISTRICT 1
DESCRIPTION:Happy Harmony will provide entertainment for an event at the National Air Force Museum\, 8 Wing CFB\, Trenton on Tuesday\, October 6 at 10:15 a.m. \nThe last Probus District 1 event was held in 2019 with an attendance of 400 Probus Club members. Happy Harmony invites singers from our choirs in Belleville\, Cobourg and Oshawa to participate in this exciting performance.
URL:https://happyharmonychoir.ca/event/autumn-escape-probus-district-1/
LOCATION:National Air Force Museum\, 220 RCAF Rd.\, Trenton\, ON\, K0K3W0\, Canada
ATTACH;FMTTYPE=image/jpeg:https://happyharmonychoir.ca/wp-content/uploads/2026/02/rcaf.jpg
ORGANIZER;CN="Brittany Brant":MAILTO:info@HappyHarmonyChoir.com
END:VEVENT
BEGIN:VEVENT
DTSTART;TZID=America/New_York:20261128T140000
DTEND;TZID=America/New_York:20261128T150000
DTSTAMP:20260425T063231
CREATED:20251126T145743Z
LAST-MODIFIED:20251126T145804Z
UID:4728-1795874400-1795878000@happyharmonychoir.ca
SUMMARY:HASTINGS MANOR Christmas Combo Concert
DESCRIPTION:LOCATION: HASTINGS MANOR\, 476 Dundas Street West\, Belleville\, Ontario \nDATE: Saturday\, November 28\, 2026\,  Christmas Combo Concert at 2:00 p.m.
URL:https://happyharmonychoir.ca/event/hastings-manor-christmas-combo-concert-nov-2026/
LOCATION:Hastings Manor\, 476 Dundas Street West \, Belleville\, Ontario\, K8n5b2\, Canada
ATTACH;FMTTYPE=image/jpeg:https://happyharmonychoir.ca/wp-content/uploads/2024/12/Logo.jpg
ORGANIZER;CN="Brittany Brant":MAILTO:info@HappyHarmonyChoir.com
END:VEVENT
BEGIN:VEVENT
DTSTART;TZID=America/New_York:20261203T190000
DTEND;TZID=America/New_York:20261203T203000
DTSTAMP:20260425T063231
CREATED:20251110T142353Z
LAST-MODIFIED:20251110T142353Z
UID:4719-1796324400-1796329800@happyharmonychoir.ca
SUMMARY:Island Park Retirement Residence\, Campbellford
DESCRIPTION:Island Park Retirement Residence\, Campbellford\nThursday\, December 3\, 2026 at 7:00 p.m.
URL:https://happyharmonychoir.ca/event/island-park-retirement-residence-campbellford-2/
LOCATION:Ontario
ATTACH;FMTTYPE=image/jpeg:https://happyharmonychoir.ca/wp-content/uploads/2025/11/island-park-campbellford.jpeg
END:VEVENT
END:VCALENDAR