BEGIN:VCALENDAR
VERSION:2.0
PRODID:-//Happy Harmony Choir - ECPv6.15.20//NONSGML v1.0//EN
CALSCALE:GREGORIAN
METHOD:PUBLISH
X-ORIGINAL-URL:https://happyharmonychoir.ca
X-WR-CALDESC:Events for Happy Harmony Choir
REFRESH-INTERVAL;VALUE=DURATION:PT1H
X-Robots-Tag:noindex
X-PUBLISHED-TTL:PT1H
BEGIN:VTIMEZONE
TZID:UTC
BEGIN:STANDARD
TZOFFSETFROM:+0000
TZOFFSETTO:+0000
TZNAME:UTC
DTSTART:20220101T000000
END:STANDARD
END:VTIMEZONE
BEGIN:VEVENT
DTSTART;TZID=UTC:20240606T190000
DTEND;TZID=UTC:20240606T200000
DTSTAMP:20260421T124459
CREATED:20240218T212031Z
LAST-MODIFIED:20240424T044548Z
UID:1433-1717700400-1717704000@happyharmonychoir.ca
SUMMARY:Aldersgate Village - Belleville HH
DESCRIPTION:Happy Harmony Belleville has been asked to perform for the residents of Aldersgate Village! \nThursday\, June 6th\, 7:00 p.m. \nShaena will be conducting. \n 
URL:https://happyharmonychoir.ca/event/aldersgate-village-belleville-hh/
LOCATION:Aldersgate Village\, 7 Aldersgate Dr \, Belleville\, Ontario\, Canada
END:VEVENT
BEGIN:VEVENT
DTSTART;TZID=UTC:20240526T140000
DTEND;TZID=UTC:20240526T150000
DTSTAMP:20260421T124459
CREATED:20240324T231523Z
LAST-MODIFIED:20240324T231523Z
UID:1440-1716732000-1716735600@happyharmonychoir.ca
SUMMARY:H.J McFarland Memorial Home
DESCRIPTION:Happy Harmony Belleville will perform for the residents of H.J McFarland Memorial Home on Sunday\, May 26\, 2024. \nJanet will be conducting! \n 
URL:https://happyharmonychoir.ca/event/h-j-mcfarland-memorial-home/
LOCATION:H.J. McFarland Memorial Home\, 603 County Rd 49\, Picton\, Ontario \, Canada
END:VEVENT
BEGIN:VEVENT
DTSTART;TZID=UTC:20240427T190000
DTEND;TZID=UTC:20240427T210000
DTSTAMP:20260421T124459
CREATED:20240210T015158Z
LAST-MODIFIED:20240210T015158Z
UID:1429-1714244400-1714251600@happyharmonychoir.ca
SUMMARY:Springbrook United Fundraiser
DESCRIPTION:Happy Harmony Belleville will perform at\nSpringbrook United Methodist Church\, Saturday\, April 27\, 7:00 p.m.\nFundraiser for church activities and community outreach.
URL:https://happyharmonychoir.ca/event/springbrook-united-fundraiser/
LOCATION:Springbrook Methodist United Church\, 4871 Stirling-Marmora Rd\, Springbrook\, Ontario\, K0K 2C0\, Canada
END:VEVENT
BEGIN:VEVENT
DTSTART;TZID=UTC:20240421T133000
DTEND;TZID=UTC:20240421T143000
DTSTAMP:20260421T124459
CREATED:20240404T055801Z
LAST-MODIFIED:20240404T055801Z
UID:1450-1713706200-1713709800@happyharmonychoir.ca
SUMMARY:Faith United Church Performance - Oshawa HH
DESCRIPTION:The ladies of Oshawa Happy Harmony Choir will perform Sunday April 21st at Faith United Church in Courtice at 1:30 pm! \nIt will prove to be a fun and uplifting afternoon of music from the 50s\, 60s and beyond! \nDonations are welcome at the door and will support the church’s congregation. \n 
URL:https://happyharmonychoir.ca/event/faith-united-church-performance-oshawa-hh/
LOCATION:faith united church\, 1778 Nash Rd\, Courtice \, Ontario\, Canada
END:VEVENT
BEGIN:VEVENT
DTSTART;TZID=UTC:20240414T140000
DTEND;TZID=UTC:20240414T150000
DTSTAMP:20260421T124459
CREATED:20240404T055240Z
LAST-MODIFIED:20240404T055240Z
UID:1447-1713103200-1713106800@happyharmonychoir.ca
SUMMARY:Maple Grove Church - Oshawa HH
DESCRIPTION:The Oshawa wing of Happy Harmony will be performing… \nSunday April 14th at Maple Grove Church in Bowmanville at 2 pm!
URL:https://happyharmonychoir.ca/event/maple-grove-church-oshawa-hh/
LOCATION:Maple Grove Church\, 2197 Maple Grove Rd\, Bowmanville\, Ontario\, Canada
END:VEVENT
BEGIN:VEVENT
DTSTART;TZID=UTC:20240413T190000
DTEND;TZID=UTC:20240413T200000
DTSTAMP:20260421T124459
CREATED:20240218T211814Z
LAST-MODIFIED:20240218T211814Z
UID:1431-1713034800-1713038400@happyharmonychoir.ca
SUMMARY:Quinte Living Centre - Belleville HH
DESCRIPTION:Belleville Happy Harmony has been asked to perform for the residents of the Quinte Living Centre.\n\nFront Street\, Belleville\nSaturday\, April 13\, 7:00 p.m.\n\nJanet will be conducting!
URL:https://happyharmonychoir.ca/event/quinte-living-centre-belleville-hh/
LOCATION:Quinte Living Centre\, 370 Front St\, Belleville \, Ontario\, K8N2Z8\, Canada
END:VEVENT
BEGIN:VEVENT
DTSTART;TZID=UTC:20240323T140000
DTEND;TZID=UTC:20240323T150000
DTSTAMP:20260421T124459
CREATED:20240210T014953Z
LAST-MODIFIED:20240210T014953Z
UID:1427-1711202400-1711206000@happyharmonychoir.ca
SUMMARY:Hasting Manor - Belleville
DESCRIPTION:Happy Harmony Belleville will perform for the residents of Hastings Manor on Saturday\, March 23\, 2024 at 2pm.
URL:https://happyharmonychoir.ca/event/hasting-manor-belleville/
LOCATION:Hastings Manor\, 476 Dundas Street West \, Belleville\, Ontario\, K8n5b2\, Canada
END:VEVENT
BEGIN:VEVENT
DTSTART;TZID=UTC:20240310T140000
DTEND;TZID=UTC:20240310T150000
DTSTAMP:20260421T124459
CREATED:20240222T052211Z
LAST-MODIFIED:20240222T052211Z
UID:1436-1710079200-1710082800@happyharmonychoir.ca
SUMMARY:Ebenezer United Church Fundraiser - HH Cobourg
DESCRIPTION:Fundraiser Concert for Ebenezer United Church\nMarch 10th\, 2 pm\n\nHappy Harmony Cobourg has been asked to perform a one hour concert with cookies and treats served afterwards.\n\nThere will be Oshawa choir members singing as well! \n\nLocation is Ebenezer United Church\, at 1669 Courtice Road\, Courtice ON (at the corner of Bloor St. halfway between hwy 401 and hwy 2).\n\n\nFree will offering to support roof repairs to the church.
URL:https://happyharmonychoir.ca/event/ebenezer-united-church-fundraiser-hh-cobourg/
LOCATION:Ebenezer United Church\, 1669 Courtice Rd \, Courtice \, Ontario\, Canada
END:VEVENT
BEGIN:VEVENT
DTSTART;TZID=UTC:20240221T190000
DTEND;TZID=UTC:20240221T200000
DTSTAMP:20260421T124459
CREATED:20240105T052351Z
LAST-MODIFIED:20240105T052414Z
UID:1414-1708542000-1708545600@happyharmonychoir.ca
SUMMARY:Quinte Gardens
DESCRIPTION:Happy Harmony Belleville will sing for the residents of Quinte Gardens on Wednesday\, February 21\, 2024 from 7:00 pm – 8:00 pm.
URL:https://happyharmonychoir.ca/event/quinte-gardens-6/
LOCATION:Quinte Gardens\, 30 College St W\, Belleville\, Ontario\, K0K1X0 \, Canada
END:VEVENT
BEGIN:VEVENT
DTSTART;TZID=UTC:20231221T190000
DTEND;TZID=UTC:20231221T200000
DTSTAMP:20260421T124459
CREATED:20230623T172507Z
LAST-MODIFIED:20231004T040039Z
UID:1337-1703185200-1703188800@happyharmonychoir.ca
SUMMARY:Quinte Gardens Christmas Concert
DESCRIPTION:Happy Harmony will perform a Christmas Concert for the residents of Quinte Gardens. \nDecember 21\, 7:00 to 8:00 p.m.Christmas Combo Concert\, conducted by Shaena Dearman
URL:https://happyharmonychoir.ca/event/quinte-gardens-5/
LOCATION:Ontario
END:VEVENT
BEGIN:VEVENT
DTSTART;TZID=UTC:20231216T140000
DTEND;TZID=UTC:20231216T150000
DTSTAMP:20260421T124459
CREATED:20231104T212422Z
LAST-MODIFIED:20231107T031700Z
UID:1401-1702735200-1702738800@happyharmonychoir.ca
SUMMARY:Hastings Manor Christmas Performance!
DESCRIPTION:Happy Harmony Belleville will be performing for the residents of Hastings Manor! We will sing Christmas classics mixed with our usual repertoire. \nSaturday\, December 16th 2-3pm \n 
URL:https://happyharmonychoir.ca/event/quinte-gardens-christmas-performance/
LOCATION:Hastings Manor\, 476 Dundas Street West \, Belleville\, Ontario\, K8n5b2\, Canada
END:VEVENT
BEGIN:VEVENT
DTSTART;TZID=UTC:20231214T093000
DTEND;TZID=UTC:20231214T110000
DTSTAMP:20260421T124459
CREATED:20230530T201527Z
LAST-MODIFIED:20230530T201527Z
UID:1330-1702546200-1702551600@happyharmonychoir.ca
SUMMARY:Quinte West Probus Club Christmas Concert
DESCRIPTION:Happy Harmony has been invited to perform a Christmas concert for the Quinte West Probus Club. \nThursday\, December 14th from 9:30 am – 10:45 am at the Trenton United Church\, lower level. \nAddress: \n85 Dundas St E\, Trenton\, ON
URL:https://happyharmonychoir.ca/event/quinte-west-probus-club-christmas-concert/
LOCATION:Trenton United Church\, 85 Dundas St E\, Trenton\, Ontario\, Canada
END:VEVENT
BEGIN:VEVENT
DTSTART;TZID=UTC:20231210T130000
DTEND;TZID=UTC:20231210T140000
DTSTAMP:20260421T124459
CREATED:20231004T040255Z
LAST-MODIFIED:20231004T040255Z
UID:1391-1702213200-1702216800@happyharmonychoir.ca
SUMMARY:Bistro 116 Christmas Concert - Belleville
DESCRIPTION:Happy Harmony has been asked to perform a Christmas Concert on December 10th at 1:00 p.m. at the Bistro 116 in Belleville!
URL:https://happyharmonychoir.ca/event/bistro-116-christmas-concert-belleville/
LOCATION:Bistro 116\, 116 Pinnacle Street\, Belleville\, Ontario\, Canada
END:VEVENT
BEGIN:VEVENT
DTSTART;TZID=UTC:20231203T190000
DTEND;TZID=UTC:20231203T203000
DTSTAMP:20260421T124459
CREATED:20230530T201259Z
LAST-MODIFIED:20231023T014757Z
UID:1328-1701630000-1701635400@happyharmonychoir.ca
SUMMARY:Aldersgate Village Christmas Performance
DESCRIPTION:Happy Harmony has been asked to perform at Aldersgate Village for a Christmas Concert! \nSunday\, December 3rd from 7 pm-8:15 pm. \nAddress: \n7 Aldersgate Drive\, Belleville\, ON \n 
URL:https://happyharmonychoir.ca/event/aldersgate-village-christmas-performance/
LOCATION:Aldersgate Village\, 7 Aldersgate Dr \, Belleville\, Ontario\, Canada
END:VEVENT
BEGIN:VEVENT
DTSTART;TZID=UTC:20231129T190000
DTEND;TZID=UTC:20231129T210000
DTSTAMP:20260421T124459
CREATED:20230630T203059Z
LAST-MODIFIED:20231104T212153Z
UID:1340-1701284400-1701291600@happyharmonychoir.ca
SUMMARY:Christmas Concert with All 3 Choirs!!
DESCRIPTION:All 3 Happy Harmony Choirs will perform hits from across the decades\, plus some of your Christmas favourites! \nWednesday\, November 29th\, 2023 \n7:00 pm to 9:00 pm. \nGrace Christian Reformed Church \n440 King Street East\, Cobourg\, ON \nFree will donations will be accepted at the door. The following women’s and childrens’ shelters have been chosen to receive the free will donations collected at the concert. \nOshawa area: The Denise House \nCobourg area: The Cornerstone Centre \nBelleville area: Red Cedars Women’s Shelter (Mohawks of the Bay of Quinte)
URL:https://happyharmonychoir.ca/event/christmas-concert-with-all-3-choirs/
LOCATION:Grace Christian Reformed Church\, 440 King Street East\, Cobourg\, Ontario\, K9A1M6\, Canada
END:VEVENT
BEGIN:VEVENT
DTSTART;TZID=UTC:20231120T183000
DTEND;TZID=UTC:20231120T203000
DTSTAMP:20260421T124459
CREATED:20230811T190918Z
LAST-MODIFIED:20230811T190918Z
UID:1346-1700505000-1700512200@happyharmonychoir.ca
SUMMARY:Bellefest
DESCRIPTION:BCS\, with Support from an arts and culture grant from the City of Belleville\, is organizing an evening where community choirs from the Quinte area get together to sing for each other! It is a non-competitive opportunity\, open only to invited choirs and their directors. Each choir will sing 2-3 songs with 6-10 community choirs participating. Belleville Happy Harmony has been asked to participate! \nWhen: Monday\, November 20\, 2023 from 6:30 pm to 8:30 pm \nWhere: St. Matthew’s United Church – 25 Holloway Street\, Belleville \nOrganizer: Heather Christiansen\, Director of Belleville Choral Society
URL:https://happyharmonychoir.ca/event/bellefest/
LOCATION:St Matthew’s United Church\, 25 Holloway Street\, Belleville\, Ontario\, Canada
END:VEVENT
BEGIN:VEVENT
DTSTART;TZID=UTC:20231101T140000
DTEND;TZID=UTC:20231101T150000
DTSTAMP:20260421T124459
CREATED:20231009T200453Z
LAST-MODIFIED:20231009T200453Z
UID:1394-1698847200-1698850800@happyharmonychoir.ca
SUMMARY:HH Cobourg at the Golden Plough Lodge
DESCRIPTION:Happy Harmony Cobourg will perform at the Golden Plough Lodge on Wednesday\, November 1\, from 2-3pm. \n983 Burnham St\, Cobourg\, ON
URL:https://happyharmonychoir.ca/event/hh-cobourg-at-the-golden-plough-lodge/
LOCATION:Golden Plough Lodge\, 983 Burnham St\, Cobourg\, Ontario\, Canada
END:VEVENT
BEGIN:VEVENT
DTSTART;TZID=UTC:20231029T103000
DTEND;TZID=UTC:20231029T120000
DTSTAMP:20260421T124459
CREATED:20230917T231731Z
LAST-MODIFIED:20230923T231521Z
UID:1374-1698575400-1698580800@happyharmonychoir.ca
SUMMARY:Springbrook Methodist United Church Anniversary! (HH Belleville)
DESCRIPTION:Happy Harmony is honoured to be singing at the 139th Anniversary of the Springbrook Methodist United Church. This celebration will take place on Sunday\, October 29\, 10:30 a.m. Lunch will follow the service.\n\n4862 Stirling-Marmora Road\nSpringbrook Ontario\nK0K 2C0
URL:https://happyharmonychoir.ca/event/springbrook-methodist-united-church-anniversary-hh-belleville/
LOCATION:Springbrook Methodist United Church\, 4871 Stirling-Marmora Rd\, Springbrook\, Ontario\, K0K 2C0\, Canada
END:VEVENT
BEGIN:VEVENT
DTSTART;TZID=UTC:20231014T140000
DTEND;TZID=UTC:20231014T150000
DTSTAMP:20260421T124459
CREATED:20230917T231442Z
LAST-MODIFIED:20230917T231442Z
UID:1372-1697292000-1697295600@happyharmonychoir.ca
SUMMARY:Hastings Manor (Belleville HH)
DESCRIPTION:Belleville Happy Harmony Choir has been asked to perform for the residents of Hastings Manor! \nOctober 14\, 2023 \n2:00 pm – 3:00 pm \n476 Dundas St W Belleville\, ON
URL:https://happyharmonychoir.ca/event/hastings-manor-belleville-hh/
LOCATION:Hastings Manor\, 476 Dundas Street West \, Belleville\, Ontario\, K8n5b2\, Canada
END:VEVENT
BEGIN:VEVENT
DTSTART;TZID=UTC:20230928T190000
DTEND;TZID=UTC:20230928T200000
DTSTAMP:20260421T124459
CREATED:20230802T232442Z
LAST-MODIFIED:20230802T232442Z
UID:1344-1695927600-1695931200@happyharmonychoir.ca
SUMMARY:Quinte Gardens Performance
DESCRIPTION:Happy Harmony (Belleville) been asked to perform for the residents of Quinte Gardens on September 28\, 2023 from 7-8pm! \n 
URL:https://happyharmonychoir.ca/event/quinte-gardens-performance-2/
LOCATION:Quinte Gardens\, 30 College St W\, Belleville\, Ontario\, K0K1X0 \, Canada
END:VEVENT
BEGIN:VEVENT
DTSTART;TZID=UTC:20230824T110000
DTEND;TZID=UTC:20230824T120000
DTSTAMP:20260421T124459
CREATED:20230602T035248Z
LAST-MODIFIED:20230602T035248Z
UID:1332-1692874800-1692878400@happyharmonychoir.ca
SUMMARY:Probus Picnic Performance
DESCRIPTION:Happy Harmony Belleville has been invited to perform for the Probus Club of Quinte picnic. \nLocation: Zwick’s Park Bandstand\, Belleville \nThursday\, August 24\, 2023 \n11am – 12:00 pm
URL:https://happyharmonychoir.ca/event/probus-picnic-performance/
LOCATION:Zwicks Park\, Ontario\, Canada
END:VEVENT
BEGIN:VEVENT
DTSTART;TZID=UTC:20230719T190000
DTEND;TZID=UTC:20230719T200000
DTSTAMP:20260421T124459
CREATED:20230623T172303Z
LAST-MODIFIED:20230623T172303Z
UID:1335-1689793200-1689796800@happyharmonychoir.ca
SUMMARY:Quinte Gardens
DESCRIPTION:Happy Harmony will perform for the residents of Quinte Gardens! \nQuinte Gardens July 19\, 7:00 to 800 p.m\, conducted by Janet Gosse
URL:https://happyharmonychoir.ca/event/quinte-gardens-4/
LOCATION:Quinte Gardens\, 30 College St W\, Belleville\, Ontario\, K0K1X0 \, Canada
END:VEVENT
BEGIN:VEVENT
DTSTART;TZID=UTC:20230624T190000
DTEND;TZID=UTC:20230624T210000
DTSTAMP:20260421T124459
CREATED:20230502T063859Z
LAST-MODIFIED:20230502T063925Z
UID:1321-1687633200-1687640400@happyharmonychoir.ca
SUMMARY:Fundraiser for the Red Cross - All 3 Happy Harmony Choirs!
DESCRIPTION:We are excited to announce a concert\, which for the first time\, will be performed together by the Happy Harmony choirs from Belleville\, Cobourg\, and Oshawa. Sixty voices strong\, this concert promises to have you singing in your seats and maybe even\, “Dancing in the Street”.\n\nFundraiser for the Red Cross: admission by free-will donations at the door. Tax receipts available for donations of $20.00 or more.\n\nSaturday\, June 24\, 7:00-9:00 p.m.\n\nGrace Christian Reformed Church\n440 King Street East\nCobourg\, Ontario
URL:https://happyharmonychoir.ca/event/1321/
LOCATION:Grace Christian Reformed Church\, 440 King Street East\, Cobourg\, Ontario\, K9A1M6\, Canada
END:VEVENT
BEGIN:VEVENT
DTSTART;TZID=UTC:20230610T193000
DTEND;TZID=UTC:20230610T210000
DTSTAMP:20260421T124459
CREATED:20230324T002855Z
LAST-MODIFIED:20230530T202452Z
UID:1303-1686425400-1686430800@happyharmonychoir.ca
SUMMARY:Fundraiser - St Paul’s United Church
DESCRIPTION:Fundraising Concert! \nSt. Paul’s United Church\, 104 Church Street\, Stirling Ontario\n\nSaturday\, June 10 2023\, 7:30 p.m.- 9:00p.m.\n\nFree Will offerings will be donated to The Heart of Hastings Hospice and St. Paul’s Programs
URL:https://happyharmonychoir.ca/event/fundraiser-st-pauls-united-church/
LOCATION:St Paul’s United Church\, 104 Church Street \, Stirling\, Ontario\, Canada
END:VEVENT
BEGIN:VEVENT
DTSTART;TZID=UTC:20230601T190000
DTEND;TZID=UTC:20230601T200000
DTSTAMP:20260421T124459
CREATED:20230513T155731Z
LAST-MODIFIED:20230513T155731Z
UID:1325-1685646000-1685649600@happyharmonychoir.ca
SUMMARY:Quinte Gardens
DESCRIPTION:Happy Harmony Belleville has been asked to return to perform at Quinte Gardens! \nJune 1\, 2023 \n7pm to 8pm \n30 College St W\, Belleville\, ON
URL:https://happyharmonychoir.ca/event/quinte-gardens-3/
LOCATION:Quinte Gardens\, 30 College St W\, Belleville\, Ontario\, K0K1X0 \, Canada
END:VEVENT
BEGIN:VEVENT
DTSTART;TZID=UTC:20230503T190000
DTEND;TZID=UTC:20230503T200000
DTSTAMP:20260421T124459
CREATED:20230409T160458Z
LAST-MODIFIED:20230409T160458Z
UID:1315-1683140400-1683144000@happyharmonychoir.ca
SUMMARY:Quinte Gardens
DESCRIPTION:Happy Harmony Belleville will be performing for the residents at Quinte Gardens. \nQuinte Gardens \n30 College Street\, Belleville\, ON \nMay 3\, 2023 7pm – 8pm \n 
URL:https://happyharmonychoir.ca/event/quinte-gardens-2/
LOCATION:Quinte Gardens\, 30 College St W\, Belleville\, Ontario\, K0K1X0 \, Canada
END:VEVENT
BEGIN:VEVENT
DTSTART;TZID=UTC:20230429T190000
DTEND;TZID=UTC:20230429T200000
DTSTAMP:20260421T124459
CREATED:20230302T070904Z
LAST-MODIFIED:20230302T070904Z
UID:1293-1682794800-1682798400@happyharmonychoir.ca
SUMMARY:Aldersgate Village - Belleville
DESCRIPTION:Our Belleville choir will be performing for the residents of Aldersgate Village in Belleville. \nSaturday\, April 29th\, 2023 \n7:00 pm to 8:00 pm
URL:https://happyharmonychoir.ca/event/aldersgate-village-belleville/
LOCATION:Aldersgate Village\, 7 Aldersgate Dr \, Belleville\, Ontario\, Canada
END:VEVENT
BEGIN:VEVENT
DTSTART;TZID=UTC:20230327T123000
DTEND;TZID=UTC:20230327T133000
DTSTAMP:20260421T124459
CREATED:20230306T001511Z
LAST-MODIFIED:20230306T001511Z
UID:1300-1679920200-1679923800@happyharmonychoir.ca
SUMMARY:Cobourg Ladies Curling Club (Cobourg Chapter)
DESCRIPTION:We will entertain the Cobourg Ladies Curling Club at their luncheon.\nThe location is the West Northumberland Curling Club\, 206B Furnace St\, Cobourg.\nMonday\, March 27th at 12:30 pm.
URL:https://happyharmonychoir.ca/event/cobourg-ladies-curling-club-cobourg-chapter/
LOCATION:West Northumberland Curling Club\, 206B Furnace St\, Cobourg\, Ontario\, Canada
END:VEVENT
BEGIN:VEVENT
DTSTART;TZID=UTC:20230308T200000
DTEND;TZID=UTC:20230308T210000
DTSTAMP:20260421T124459
CREATED:20230303T213856Z
LAST-MODIFIED:20230303T213856Z
UID:1296-1678305600-1678309200@happyharmonychoir.ca
SUMMARY:International Women's Day Celebration
DESCRIPTION:Sponsored by  Belleville Professional Women Hastings and Prince Edward and the United Nations Association Canada\, Quinte Branch\n\nLocation: The Grand at the Holy Trinity Greek Orthodox Church\, Belleville\, Ontario\n                70 Harder Drive ( corner of Avondale Road and Harder) K8P 5J7\n\nTime of Performance: around 8:00 p.m. This event begins at 5:30\, drinks\, dinner\, speaker and Happy Harmony will close the event.\nPlease arrive at the Grand at 7:45 p.m.\n\nPlease car pool if possible as parking is limited.
URL:https://happyharmonychoir.ca/event/international-womens-day-celebration/
LOCATION:The Grand at the Holy Trinity Greek Orthodox Church\, 70 Harder Drive\, Belleville\, Ontario\, K8P 5J7\, Canada
END:VEVENT
BEGIN:VEVENT
DTSTART;TZID=UTC:20230212T130000
DTEND;TZID=UTC:20230212T143000
DTSTAMP:20260421T124459
CREATED:20230126T050921Z
LAST-MODIFIED:20230127T083852Z
UID:1288-1676206800-1676212200@happyharmonychoir.ca
SUMMARY:Bistro 116
DESCRIPTION:Happy Harmony Belleville has been asked to perform at Bistro 116! \nPinnacle Street\, Belleville\, \nSunday 1:00 p.m. to 2:30 p.m. FEBRUARY 12\, 2023. \nCelebrate Valentine’s Day with great love songs from the fifties and sixties.
URL:https://happyharmonychoir.ca/event/bistro-116/
LOCATION:Bistro 116\, 116 Pinnacle Street\, Belleville\, Ontario\, Canada
END:VEVENT
END:VCALENDAR