BEGIN:VCALENDAR
VERSION:2.0
PRODID:-//Happy Harmony Choir - ECPv6.15.20//NONSGML v1.0//EN
CALSCALE:GREGORIAN
METHOD:PUBLISH
X-ORIGINAL-URL:https://happyharmonychoir.ca
X-WR-CALDESC:Events for Happy Harmony Choir
REFRESH-INTERVAL;VALUE=DURATION:PT1H
X-Robots-Tag:noindex
X-PUBLISHED-TTL:PT1H
BEGIN:VTIMEZONE
TZID:America/New_York
BEGIN:DAYLIGHT
TZOFFSETFROM:-0500
TZOFFSETTO:-0400
TZNAME:EDT
DTSTART:20230312T070000
END:DAYLIGHT
BEGIN:STANDARD
TZOFFSETFROM:-0400
TZOFFSETTO:-0500
TZNAME:EST
DTSTART:20231105T060000
END:STANDARD
BEGIN:DAYLIGHT
TZOFFSETFROM:-0500
TZOFFSETTO:-0400
TZNAME:EDT
DTSTART:20240310T070000
END:DAYLIGHT
BEGIN:STANDARD
TZOFFSETFROM:-0400
TZOFFSETTO:-0500
TZNAME:EST
DTSTART:20241103T060000
END:STANDARD
BEGIN:DAYLIGHT
TZOFFSETFROM:-0500
TZOFFSETTO:-0400
TZNAME:EDT
DTSTART:20250309T070000
END:DAYLIGHT
BEGIN:STANDARD
TZOFFSETFROM:-0400
TZOFFSETTO:-0500
TZNAME:EST
DTSTART:20251102T060000
END:STANDARD
BEGIN:DAYLIGHT
TZOFFSETFROM:-0500
TZOFFSETTO:-0400
TZNAME:EDT
DTSTART:20260308T070000
END:DAYLIGHT
BEGIN:STANDARD
TZOFFSETFROM:-0400
TZOFFSETTO:-0500
TZNAME:EST
DTSTART:20261101T060000
END:STANDARD
END:VTIMEZONE
BEGIN:VTIMEZONE
TZID:UTC
BEGIN:STANDARD
TZOFFSETFROM:+0000
TZOFFSETTO:+0000
TZNAME:UTC
DTSTART:20230101T000000
END:STANDARD
END:VTIMEZONE
BEGIN:VEVENT
DTSTART;TZID=America/New_York:20251121T180000
DTEND;TZID=America/New_York:20251121T190000
DTSTAMP:20260421T080824
CREATED:20251019T164202Z
LAST-MODIFIED:20251019T164202Z
UID:4707-1763748000-1763751600@happyharmonychoir.ca
SUMMARY:Light Up Brighton in Memorial Park on Main Street
DESCRIPTION:Happy Harmony will be performing at Light Up Brighton in Memorial Park on Main Street. \nWe will sing a variety of our music including lots of Christmas songs as the lights are turned on in the downtown park and the Santa Claus parade begins.
URL:https://happyharmonychoir.ca/event/light-up-brighton-in-memorial-park-on-main-street/
LOCATION:Memorial Park Brighton\, Main Street and Veteran’s Way\, Brighton \, Ontario
ATTACH;FMTTYPE=image/jpeg:https://happyharmonychoir.ca/wp-content/uploads/2025/10/lights-scaled.jpeg
ORGANIZER;CN="Brittany Brant":MAILTO:info@HappyHarmonyChoir.com
END:VEVENT
BEGIN:VEVENT
DTSTART;TZID=America/New_York:20251119T183000
DTEND;TZID=America/New_York:20251119T203000
DTSTAMP:20260421T080824
CREATED:20251029T191701Z
LAST-MODIFIED:20251102T143452Z
UID:4711-1763577000-1763584200@happyharmonychoir.ca
SUMMARY:Port Hope Extendicare Residence
DESCRIPTION:Wed. November 19th\, 6:30 pm – Port Hope Extendicare Residence\, 360 Croft Street\, Port Hope
URL:https://happyharmonychoir.ca/event/port-hope-extendicare-residence/
LOCATION:Port Hope Extendicare Residence\, 360 Croft Street\, Port Hope\, Ontario\, L1A4K8\, Canada
ATTACH;FMTTYPE=image/jpeg:https://happyharmonychoir.ca/wp-content/uploads/2024/12/Logo.jpg
ORGANIZER;CN="Brittany Brant":MAILTO:info@HappyHarmonyChoir.com
END:VEVENT
BEGIN:VEVENT
DTSTART;TZID=America/New_York:20251119T140000
DTEND;TZID=America/New_York:20251119T150000
DTSTAMP:20260421T080824
CREATED:20250925T125627Z
LAST-MODIFIED:20251029T191812Z
UID:4699-1763560800-1763564400@happyharmonychoir.ca
SUMMARY:Cobourg Choir is performing for the VON adult daycare program
DESCRIPTION:Cobourg Choir is performing for the VON adult daycare program on Wed Nov. 19th\, at 2 pm. It is located at 700 D’Arcy St\, Building 18.
URL:https://happyharmonychoir.ca/event/cobourg-choir-is-performing-for-the-von-adult-daycare-program/
LOCATION:VON Adult Daycare Program\, 700 D'Arcy Street Bldg 18\, Cobourg\, Ontario\, Canada
ATTACH;FMTTYPE=image/jpeg:https://happyharmonychoir.ca/wp-content/uploads/2024/12/Logo.jpg
ORGANIZER;CN="Brittany Brant":MAILTO:info@HappyHarmonyChoir.com
END:VEVENT
BEGIN:VEVENT
DTSTART;TZID=America/New_York:20251103T183000
DTEND;TZID=America/New_York:20251103T203000
DTSTAMP:20260421T080824
CREATED:20240921T161131Z
LAST-MODIFIED:20250404T165909Z
UID:1510-1762194600-1762201800@happyharmonychoir.ca
SUMMARY:Bellefest Event - HH Belleville
DESCRIPTION:Happy Harmony Choir Belleville has been asked to sing at Bellefest! \nNovember 3\,2025 at 6:30 \nSt. Matthew’s Church\n25 Holloway St. Belleville\, ON \nParking is limited. Carpooling is encouraged. \n 
URL:https://happyharmonychoir.ca/event/bellefest-event-hh-belleville/
LOCATION:St Matthew’s United Church\, 25 Holloway Street\, Belleville\, Ontario\, Canada
ORGANIZER;CN="Brittany Brant":MAILTO:info@HappyHarmonyChoir.com
END:VEVENT
BEGIN:VEVENT
DTSTART;TZID=America/New_York:20251023T190000
DTEND;TZID=America/New_York:20251023T210000
DTSTAMP:20260421T080824
CREATED:20250614T130327Z
LAST-MODIFIED:20250614T130327Z
UID:4650-1761246000-1761253200@happyharmonychoir.ca
SUMMARY:Concert for Aspira Island Park Retirement Living
DESCRIPTION:
URL:https://happyharmonychoir.ca/event/concert-for-aspira-island-park-retirement-living/
LOCATION:Aspira Island Park Retirement Living\, 18 Trent Drive\, Campbellford\, Ontario\, Canada
ATTACH;FMTTYPE=image/jpeg:https://happyharmonychoir.ca/wp-content/uploads/2024/12/Logo.jpg
ORGANIZER;CN="Brittany Brant":MAILTO:info@HappyHarmonyChoir.com
END:VEVENT
BEGIN:VEVENT
DTSTART;TZID=America/New_York:20250911T183000
DTEND;TZID=America/New_York:20250911T203000
DTSTAMP:20260421T080824
CREATED:20250528T131916Z
LAST-MODIFIED:20250528T131916Z
UID:4646-1757615400-1757622600@happyharmonychoir.ca
SUMMARY:Napanee - HH Belleville
DESCRIPTION:John M. Parrott Centre
URL:https://happyharmonychoir.ca/event/napanee-hh-belleville/
LOCATION:John M. Parrott Centre\, 309 Bridge Street West\, Napanee\, Ontario\, K7R2G4\, Canada
ATTACH;FMTTYPE=image/jpeg:https://happyharmonychoir.ca/wp-content/uploads/2024/12/Logo.jpg
ORGANIZER;CN="Brittany Brant":MAILTO:info@HappyHarmonyChoir.com
END:VEVENT
BEGIN:VEVENT
DTSTART;TZID=America/New_York:20250625T140000
DTEND;TZID=America/New_York:20250625T150000
DTSTAMP:20260421T080824
CREATED:20250509T135831Z
LAST-MODIFIED:20250509T135936Z
UID:4637-1750860000-1750863600@happyharmonychoir.ca
SUMMARY:Golden Plough Lodge -- Cobourg
DESCRIPTION:
URL:https://happyharmonychoir.ca/event/golden-plough-lodge-cobourg/
LOCATION:Golden Plough Lodge\, 983 Burnham St\, Cobourg\, Ontario\, Canada
ATTACH;FMTTYPE=image/jpeg:https://happyharmonychoir.ca/wp-content/uploads/2024/12/Logo.jpg
ORGANIZER;CN="Brittany Brant":MAILTO:info@HappyHarmonyChoir.com
END:VEVENT
BEGIN:VEVENT
DTSTART;TZID=America/New_York:20250620T140000
DTEND;TZID=America/New_York:20250620T144500
DTSTAMP:20260421T080824
CREATED:20250509T135721Z
LAST-MODIFIED:20250527T131906Z
UID:4633-1750428000-1750430700@happyharmonychoir.ca
SUMMARY:Hastings Social Circle -- Trent Hills Public Library
DESCRIPTION:
URL:https://happyharmonychoir.ca/event/hastings-social-circle-trent-hills-public-library/
LOCATION:Trent Hills Public Library\, 6 Albert Street East\, Hastings\, Ontario\, K0L 1Y0\, Canada
ATTACH;FMTTYPE=image/jpeg:https://happyharmonychoir.ca/wp-content/uploads/2025/05/event-hastings-social.jpg
ORGANIZER;CN="Brittany Brant":MAILTO:info@HappyHarmonyChoir.com
END:VEVENT
BEGIN:VEVENT
DTSTART;TZID=America/New_York:20250614T190000
DTEND;TZID=America/New_York:20250614T210000
DTSTAMP:20260421T080824
CREATED:20250326T220514Z
LAST-MODIFIED:20250326T220514Z
UID:4609-1749927600-1749934800@happyharmonychoir.ca
SUMMARY:Happy Harmony Choir Belleville Year End Concert
DESCRIPTION:Concert will be a benefit concert for the Hastings and Prince Edward County School Board’s Learning Foundation.
URL:https://happyharmonychoir.ca/event/happy-harmony-choir-belleville-year-end-concert/
LOCATION:St Mark’s United Church\, 237 Cannifton Road \, Belleville\, Ontario\, K0K 1K0\, Canada
ATTACH;FMTTYPE=image/jpeg:https://happyharmonychoir.ca/wp-content/uploads/2024/12/Logo.jpg
ORGANIZER;CN="Brittany Brant":MAILTO:info@HappyHarmonyChoir.com
END:VEVENT
BEGIN:VEVENT
DTSTART;TZID=America/New_York:20250604T140000
DTEND;TZID=America/New_York:20250604T150000
DTSTAMP:20260421T080824
CREATED:20250509T135315Z
LAST-MODIFIED:20250509T140006Z
UID:4631-1749045600-1749049200@happyharmonychoir.ca
SUMMARY:VON Adult Daycare program -- Cobourg
DESCRIPTION:
URL:https://happyharmonychoir.ca/event/von-adult-daycare-program-cobourg/
LOCATION:VON Adult Daycare Program\, 700 D'Arcy Street Bldg 18\, Cobourg\, Ontario\, Canada
ATTACH;FMTTYPE=image/jpeg:https://happyharmonychoir.ca/wp-content/uploads/2024/12/Logo.jpg
ORGANIZER;CN="Brittany Brant":MAILTO:info@HappyHarmonyChoir.com
END:VEVENT
BEGIN:VEVENT
DTSTART;TZID=America/New_York:20250531T190000
DTEND;TZID=America/New_York:20250531T210000
DTSTAMP:20260421T080824
CREATED:20250319T142343Z
LAST-MODIFIED:20250319T142521Z
UID:4602-1748718000-1748725200@happyharmonychoir.ca
SUMMARY:Summer Benefit\, Concert featuring ALL 3 CHOIRS!
DESCRIPTION:Happy Harmony Women’s Choir. \nDonations accepted at the door. All proceeds will be given to food banks in Belleville\, Cobourg\, and Oshawa!
URL:https://happyharmonychoir.ca/event/summer-benefit-concert-featuring-all-3-choirs/
LOCATION:Grace Christian Reformed Church\, 440 King Street East\, Cobourg\, Ontario\, K9A1M6\, Canada
ATTACH;FMTTYPE=image/png:https://happyharmonychoir.ca/wp-content/uploads/2025/03/event-may-31-2025.png
ORGANIZER;CN="Brittany Brant":MAILTO:info@HappyHarmonyChoir.com
END:VEVENT
BEGIN:VEVENT
DTSTART;TZID=America/New_York:20250528T190000
DTEND;TZID=America/New_York:20250528T210000
DTSTAMP:20260421T080824
CREATED:20250504T153610Z
LAST-MODIFIED:20250504T154015Z
UID:4625-1748458800-1748466000@happyharmonychoir.ca
SUMMARY:Joint practice for all 3 choirs at Grace Christian Reformed Church
DESCRIPTION:Joint practice for all 3 choirs at Grace Christian Reformed Church
URL:https://happyharmonychoir.ca/event/joint-practice-for-all-3-choirs-at-grace-christian-reformed-church/
LOCATION:Grace Christian Reformed Church\, 440 King Street East\, Cobourg\, Ontario\, K9A1M6\, Canada
ATTACH;FMTTYPE=image/jpeg:https://happyharmonychoir.ca/wp-content/uploads/2015/07/happy-harmony-larger-stretched-out.jpg
ORGANIZER;CN="Brittany Brant":MAILTO:info@HappyHarmonyChoir.com
END:VEVENT
BEGIN:VEVENT
DTSTART;TZID=America/New_York:20250524T140000
DTEND;TZID=America/New_York:20250524T160000
DTSTAMP:20260421T080824
CREATED:20250504T153432Z
LAST-MODIFIED:20250504T153432Z
UID:4622-1748095200-1748102400@happyharmonychoir.ca
SUMMARY:Happy Harmony Cobourg Choir at Brighton Barn Theatre (private function)
DESCRIPTION:Happy Harmony Cobourg Choir at Brighton Barn Theatre (private function)
URL:https://happyharmonychoir.ca/event/happy-harmony-cobourg-choir-at-brighton-barn-theatre-private-function/
LOCATION:Brighton Barn Theatre\, 96 Young Street\, Brighton\, Ontario\, Canada
ATTACH;FMTTYPE=image/jpeg:https://happyharmonychoir.ca/wp-content/uploads/2015/07/happy-harmony-larger-stretched-out.jpg
ORGANIZER;CN="Brittany Brant":MAILTO:info@HappyHarmonyChoir.com
END:VEVENT
BEGIN:VEVENT
DTSTART;TZID=America/New_York:20250514T140000
DTEND;TZID=America/New_York:20250514T150000
DTSTAMP:20260421T080824
CREATED:20250509T135137Z
LAST-MODIFIED:20250509T140024Z
UID:4629-1747231200-1747234800@happyharmonychoir.ca
SUMMARY:Extendicare -- Cobourg
DESCRIPTION:
URL:https://happyharmonychoir.ca/event/extendicare-cobourg/
LOCATION:Extendicare Cobourg\, 130 Densmore Rd \, Cobourg \, Ontario\, K9A5W2\, Canada
ATTACH;FMTTYPE=image/jpeg:https://happyharmonychoir.ca/wp-content/uploads/2024/12/Logo.jpg
ORGANIZER;CN="Brittany Brant":MAILTO:info@HappyHarmonyChoir.com
END:VEVENT
BEGIN:VEVENT
DTSTART;TZID=America/New_York:20250510T140000
DTEND;TZID=America/New_York:20250510T160000
DTSTAMP:20260421T080824
CREATED:20250402T143756Z
LAST-MODIFIED:20250402T143939Z
UID:4614-1746885600-1746892800@happyharmonychoir.ca
SUMMARY:Happy Harmony Choir at Quinte Gardens
DESCRIPTION:Happy Harmony Choir at Quinte Gardens
URL:https://happyharmonychoir.ca/event/happy-harmony-choir-at-quinte-gardens/
LOCATION:Quinte Gardens\, 30 College St W\, Belleville\, Ontario\, K0K1X0 \, Canada
ATTACH;FMTTYPE=image/png:https://happyharmonychoir.ca/wp-content/uploads/2025/04/Screenshot-2025-04-02-at-10.38.57 AM.png
ORGANIZER;CN="Brittany Brant":MAILTO:info@HappyHarmonyChoir.com
END:VEVENT
BEGIN:VEVENT
DTSTART;TZID=America/New_York:20250412T140000
DTEND;TZID=America/New_York:20250412T153000
DTSTAMP:20260421T080824
CREATED:20250307T231640Z
LAST-MODIFIED:20250326T220626Z
UID:4597-1744466400-1744471800@happyharmonychoir.ca
SUMMARY:Hastings Manor Senior Residence\, Belleville
DESCRIPTION:
URL:https://happyharmonychoir.ca/event/hastings-manor-senior-residence-belleville/
LOCATION:Hastings Manor\, 476 Dundas Street West \, Belleville\, Ontario\, K8n5b2\, Canada
ATTACH;FMTTYPE=image/jpeg:https://happyharmonychoir.ca/wp-content/uploads/2024/12/Logo.jpg
END:VEVENT
BEGIN:VEVENT
DTSTART;TZID=America/New_York:20250306T190000
DTEND;TZID=America/New_York:20250306T203000
DTSTAMP:20260421T080824
CREATED:20250113T172836Z
LAST-MODIFIED:20250113T173030Z
UID:4573-1741287600-1741293000@happyharmonychoir.ca
SUMMARY:Aldersgate Village
DESCRIPTION:HH Belleville has been asked to sing for the residents of Aldersgate Village Retirement Home in Belleville on Thursday\, March 6\, 2025\, 7:00 p.m.
URL:https://happyharmonychoir.ca/event/aldersgate-village-2/
LOCATION:Aldersgate Village\, 7 Aldersgate Dr \, Belleville\, Ontario\, Canada
END:VEVENT
BEGIN:VEVENT
DTSTART;TZID=America/New_York:20250215T140000
DTEND;TZID=America/New_York:20250215T153000
DTSTAMP:20260421T080824
CREATED:20241028T190841Z
LAST-MODIFIED:20241028T190841Z
UID:1534-1739628000-1739633400@happyharmonychoir.ca
SUMMARY:HH Belleville - Fundraiser for Quinte Little Theatre\, Trenton Ontario
DESCRIPTION:Fundraiser for Quinte Little Theatre\n\nQuinte Little Theatre (QLT) is a new Centre for the Performing Arts currently housed in the Old Town Hall on King Street in Trenton. This theatre presents many new opportunities for performers and audiences of all ages.\n\nDate: February 15\, 2025\n\nLocation of the Concert: Batawa Community Centre\, Batawa Ontario\n\nTime: 2:00 p.m.
URL:https://happyharmonychoir.ca/event/hh-belleville-fundraiser-for-quinte-little-theatre-trenton-ontario/
LOCATION:Batawa Community Centre\, 81 Plant St\, Batawa\, Ontario\, Canada
END:VEVENT
BEGIN:VEVENT
DTSTART;TZID=UTC:20241214T140000
DTEND;TZID=UTC:20241214T150000
DTSTAMP:20260421T080824
CREATED:20240529T012459Z
LAST-MODIFIED:20241028T190533Z
UID:1471-1734184800-1734188400@happyharmonychoir.ca
SUMMARY:HJ McFarland Memorial Home Christmas Concert (HHBelleville)
DESCRIPTION:Happy Harmony is very happy to return for a Christmas Combo Concert. We will be performing fifties and sixties songs along with a variety of Christmas music.\n\nLocation: H.J. McFarland Memorial Home\n                603 County Road 49\, Picton Ontario\, K0K 2T0\n\nDate/Time: Saturday\, December 14\, 2:00 p.m.
URL:https://happyharmonychoir.ca/event/hj-mcfarland-memorial-home-christmas-concert-all-choirs/
LOCATION:McFarland Memorial Home\, 603 County Rd 49 \, Picton \, Ontario \, K0K2T0\, Canada
END:VEVENT
BEGIN:VEVENT
DTSTART;TZID=America/New_York:20241209T190000
DTEND;TZID=America/New_York:20241209T200000
DTSTAMP:20260421T080824
CREATED:20241028T190250Z
LAST-MODIFIED:20241028T190250Z
UID:1530-1733770800-1733774400@happyharmonychoir.ca
SUMMARY:HH Cobourg - Inner Wheel Christmas Dinner - Private Event
DESCRIPTION:The ladies of HH Cobourg will perform at the Inner Wheel Christmas dinner on Monday\, December 9th in a private party room at the Best Western Hotel in Cobourg\, ON.\n\nLocation: 930 Burnham St\, Cobourg\, ON\nTime TBD\, around 7 pm.
URL:https://happyharmonychoir.ca/event/hh-cobourg-inner-wheel-christmas-dinner-private-event/
LOCATION:Cobourg Best Western\, 930 Burnham St\, Cobourg\, Ontario\, Canada
END:VEVENT
BEGIN:VEVENT
DTSTART;TZID=UTC:20241207T140000
DTEND;TZID=UTC:20241207T150000
DTSTAMP:20260421T080824
CREATED:20240610T191219Z
LAST-MODIFIED:20240817T132438Z
UID:1481-1733580000-1733583600@happyharmonychoir.ca
SUMMARY:Hastings Manor Christmas Concert
DESCRIPTION:Location: Hastings Manor – Belleville\n\nDate: Saturday\, December 7\, 2:00 p.m.\n\nChristmas Combo: A variety of Christmas music and songs mainly from the fifties and sixties.
URL:https://happyharmonychoir.ca/event/aldersgate-village-christmas-concert/
LOCATION:Hastings Manor\, 476 Dundas Street West \, Belleville\, Ontario\, K8n5b2\, Canada
END:VEVENT
BEGIN:VEVENT
DTSTART;TZID=America/New_York:20241201T153000
DTEND;TZID=America/New_York:20241201T173000
DTSTAMP:20260421T080824
CREATED:20241110T171909Z
LAST-MODIFIED:20241110T171909Z
UID:1539-1733067000-1733074200@happyharmonychoir.ca
SUMMARY:Beaufort Pub Christmas Concert
DESCRIPTION:Happy Harmony will be singing for the Christmas Party at the Beaufort Pub\, Belleville\, Ontario.\n\nDate: Sunday\, December 1 at 3:45 p.m.\n\nThis will be a Christmas Combo Concert with favorites from the fifties and sixties and popular Christmas songs.
URL:https://happyharmonychoir.ca/event/beaufort-pub-christmas-concert/
LOCATION:The Beaufort Pub\, 173 Dundas St E\, Belleville\, Ontario\, Canada
END:VEVENT
BEGIN:VEVENT
DTSTART;TZID=UTC:20241130T150000
DTEND;TZID=UTC:20241130T160000
DTSTAMP:20260421T080824
CREATED:20240610T191005Z
LAST-MODIFIED:20241120T143308Z
UID:1478-1732978800-1732982400@happyharmonychoir.ca
SUMMARY:Over 50 Club Christmas Party
DESCRIPTION:Location: Quinte Wellness Centre\, Belleville\n\nEvent: Over 50 Club Christmas Party\n\nDate: Saturday\, November 30\, 3:00p.m.to 4:00 p.m.\n\nMusic: Christmas Combo Concert with a variety of Christmas songs and music from the fifties and sixties.
URL:https://happyharmonychoir.ca/event/over-50-club-christmas-party/
LOCATION:Quinte Wellness Centre\, 265 Cannifton Rd \, Belleville\, Ontario\, Canada
END:VEVENT
BEGIN:VEVENT
DTSTART;TZID=America/New_York:20241127T180000
DTEND;TZID=America/New_York:20241127T190000
DTSTAMP:20260421T080824
CREATED:20241028T185912Z
LAST-MODIFIED:20241028T185912Z
UID:1527-1732730400-1732734000@happyharmonychoir.ca
SUMMARY:HH Cobourg - Brighton Retirement Home
DESCRIPTION:The ladies of HH Cobourg will perform for the residents of the Brighton Retirement Home on Wednesday\, November 27th\, 2024 at 6 pm. \nLocation: 291 Main St\, Brighton
URL:https://happyharmonychoir.ca/event/hh-cobourg-brighton-retirement-home/
LOCATION:Brighton Retirement Home\, 291 Main St\, Brighton\, Ontario\, Canada
END:VEVENT
BEGIN:VEVENT
DTSTART;TZID=America/New_York:20241127T140000
DTEND;TZID=America/New_York:20241127T150000
DTSTAMP:20260421T080824
CREATED:20241028T185700Z
LAST-MODIFIED:20241028T185700Z
UID:1524-1732716000-1732719600@happyharmonychoir.ca
SUMMARY:HH Cobourg - VON Adult Daycare Program
DESCRIPTION:The ladies of HH Cobourg will perform for the VON Adult Daycare Program on Wednesday\, November 27th at 2pm. \nLocation: 700 D’Arcy Street\, Bldg 18\, Cobourg\, ON
URL:https://happyharmonychoir.ca/event/hh-cobourg-von-adult-daycare-program/
LOCATION:VON Adult Daycare Program\, 700 D'Arcy Street Bldg 18\, Cobourg\, Ontario\, Canada
END:VEVENT
BEGIN:VEVENT
DTSTART;TZID=America/New_York:20241115T180000
DTEND;TZID=America/New_York:20241115T190000
DTSTAMP:20260421T080824
CREATED:20241028T185406Z
LAST-MODIFIED:20241028T185406Z
UID:1522-1731693600-1731697200@happyharmonychoir.ca
SUMMARY:Light Up Brighton
DESCRIPTION:HH Cobourg will be performing at Light Up Brighton in Brighton’s outdoor gazebo in Main Street Park on Friday\, Nov 15th from 6:00 PM to 7:00 PM. \nWe’ll be singing mostly Xmas songs as this is the opening act for their Xmas parade. \nLocation: Memorial Park\, Main St\, Brighton\, ON
URL:https://happyharmonychoir.ca/event/light-up-brighton/
LOCATION:Memorial Park Brighton\, Main Street and Veteran’s Way\, Brighton \, Ontario
END:VEVENT
BEGIN:VEVENT
DTSTART;TZID=America/New_York:20241019T190000
DTEND;TZID=America/New_York:20241019T200000
DTSTAMP:20260421T080824
CREATED:20240816T172802Z
LAST-MODIFIED:20240817T132525Z
UID:1489-1729364400-1729368000@happyharmonychoir.ca
SUMMARY:Aldersgate Village - HH Belleville
DESCRIPTION:HH Belleville has been asked to sing for the residents of Aldersgate Village Retirement Home in Belleville on \nSaturday\, October 19\, 7 pm \n 
URL:https://happyharmonychoir.ca/event/aldersgate-village-hh-belleville/
LOCATION:Aldersgate Village\, 7 Aldersgate Dr \, Belleville\, Ontario\, Canada
END:VEVENT
BEGIN:VEVENT
DTSTART;TZID=America/New_York:20240828T163000
DTEND;TZID=America/New_York:20240828T173000
DTSTAMP:20260421T080824
CREATED:20240816T172553Z
LAST-MODIFIED:20240816T172553Z
UID:1486-1724862600-1724866200@happyharmonychoir.ca
SUMMARY:Lindsay Brant PhD Dissertation Celebration- HH Belleville
DESCRIPTION:HH Belleville Choir was asked to sing as part of Lindsay Brant’s PhD Dissertation Celebration! \nWednesday\, August 28th\, 4:30pm \nLocation: All Saints Church and Queen Anne’s Parish\, Tyendinaga Mohawk Territory\, \n1295 Ridge Road\, Deseronto\, ON\, K0K 1X0 \n 
URL:https://happyharmonychoir.ca/event/lindsay-brant-phd-dissertation-celebration-hh-belleville/
LOCATION:All Saints Church\, 1295 Ridge Rd\, Deseronto\, Ontario\, K0K1X0\, Canada
END:VEVENT
BEGIN:VEVENT
DTSTART;TZID=UTC:20240822T110000
DTEND;TZID=UTC:20240822T133000
DTSTAMP:20260421T080824
CREATED:20240411T075700Z
LAST-MODIFIED:20240411T075700Z
UID:1453-1724324400-1724333400@happyharmonychoir.ca
SUMMARY:Probus Annual Picnic - HH Belleville
DESCRIPTION:Happy Harmony Belleville has been asked to sing again at the Probus annual picnic in Zwick’s Park\, Belleville. \nThe concert will be at 11:00 a.m. on Thursday\, August 22\, 2024.
URL:https://happyharmonychoir.ca/event/probus-annual-picnic-hh-belleville/
LOCATION:Zwicks Park\, Ontario\, Canada
END:VEVENT
BEGIN:VEVENT
DTSTART;TZID=UTC:20240622T190000
DTEND;TZID=UTC:20240622T210000
DTSTAMP:20260421T080824
CREATED:20240330T212426Z
LAST-MODIFIED:20240330T212426Z
UID:1445-1719082800-1719090000@happyharmonychoir.ca
SUMMARY:Happy Harmony 3 Choir Fundraising Concert!
DESCRIPTION:Happy Harmony is thrilled to announce another concert which will feature our three choirs from Belleville\, Cobourg and Oshawa.\n\nLocation: Grace Christian Reform Church\, King Street East\, Cobourg\n\nDate: Saturday\, June 22 at 7:00 pm\n\nFree admission with cash donations welcome to support the food banks in each of our locations.
URL:https://happyharmonychoir.ca/event/happy-harmony-3-choir-fundraising-concert/
LOCATION:Grace Christian Reformed Church\, 440 King Street East\, Cobourg\, Ontario\, K9A1M6\, Canada
END:VEVENT
END:VCALENDAR