BEGIN:VCALENDAR
VERSION:2.0
PRODID:-//Happy Harmony Choir - ECPv6.15.20//NONSGML v1.0//EN
CALSCALE:GREGORIAN
METHOD:PUBLISH
X-WR-CALNAME:Happy Harmony Choir
X-ORIGINAL-URL:https://happyharmonychoir.ca
X-WR-CALDESC:Events for Happy Harmony Choir
REFRESH-INTERVAL;VALUE=DURATION:PT1H
X-Robots-Tag:noindex
X-PUBLISHED-TTL:PT1H
BEGIN:VTIMEZONE
TZID:UTC
BEGIN:STANDARD
TZOFFSETFROM:+0000
TZOFFSETTO:+0000
TZNAME:UTC
DTSTART:20160101T000000
END:STANDARD
END:VTIMEZONE
BEGIN:VTIMEZONE
TZID:America/New_York
BEGIN:DAYLIGHT
TZOFFSETFROM:-0500
TZOFFSETTO:-0400
TZNAME:EDT
DTSTART:20150308T070000
END:DAYLIGHT
BEGIN:STANDARD
TZOFFSETFROM:-0400
TZOFFSETTO:-0500
TZNAME:EST
DTSTART:20151101T060000
END:STANDARD
BEGIN:DAYLIGHT
TZOFFSETFROM:-0500
TZOFFSETTO:-0400
TZNAME:EDT
DTSTART:20160313T070000
END:DAYLIGHT
BEGIN:STANDARD
TZOFFSETFROM:-0400
TZOFFSETTO:-0500
TZNAME:EST
DTSTART:20161106T060000
END:STANDARD
BEGIN:DAYLIGHT
TZOFFSETFROM:-0500
TZOFFSETTO:-0400
TZNAME:EDT
DTSTART:20170312T070000
END:DAYLIGHT
BEGIN:STANDARD
TZOFFSETFROM:-0400
TZOFFSETTO:-0500
TZNAME:EST
DTSTART:20171105T060000
END:STANDARD
BEGIN:DAYLIGHT
TZOFFSETFROM:-0500
TZOFFSETTO:-0400
TZNAME:EDT
DTSTART:20180311T070000
END:DAYLIGHT
BEGIN:STANDARD
TZOFFSETFROM:-0400
TZOFFSETTO:-0500
TZNAME:EST
DTSTART:20181104T060000
END:STANDARD
END:VTIMEZONE
BEGIN:VEVENT
DTSTART;TZID=UTC:20180821T120000
DTEND;TZID=UTC:20180821T130000
DTSTAMP:20260422T000646
CREATED:20180302T004453Z
LAST-MODIFIED:20180706T050956Z
UID:870-1534852800-1534856400@happyharmonychoir.ca
SUMMARY:Probus Picnic!
DESCRIPTION:We have been asked to return to the Probus Picnic at Zwick’s Park in August! The performance will take place on Tuesday\, August 21st. We will perform from Noon-1pm.
URL:https://happyharmonychoir.ca/event/probus-picnic/
LOCATION:Zwicks Park\, Ontario\, Canada
END:VEVENT
BEGIN:VEVENT
DTSTART;TZID=UTC:20180710T190000
DTEND;TZID=UTC:20180710T203000
DTSTAMP:20260422T000646
CREATED:20180613T185126Z
LAST-MODIFIED:20180706T050922Z
UID:891-1531249200-1531254600@happyharmonychoir.ca
SUMMARY:Quinte Gardens
DESCRIPTION:We will be singing at Quinte Gardens Retirement home on Tuesday\, July 10\, from 7:15-8:15pm. Shaena will be conducting for this event!
URL:https://happyharmonychoir.ca/event/quinte-gardens/
LOCATION:Quinte Gardens\, 30 College St W\, Belleville\, Ontario\, K0K1X0 \, Canada
END:VEVENT
BEGIN:VEVENT
DTSTART;TZID=UTC:20180623T190000
DTEND;TZID=UTC:20180623T210000
DTSTAMP:20260422T000646
CREATED:20171218T225807Z
LAST-MODIFIED:20171218T232657Z
UID:846-1529780400-1529787600@happyharmonychoir.ca
SUMMARY:June Fundraising Summer Concert!
DESCRIPTION:Saturday\, June 23\, 2018\nSt.Paul’s United Church\n104 Church St.\, Stirling\n 7:00 p.m. Reception to follow\n\n\n Choir Members:\nWe will have a dress rehearsal on\n WEDNESDAY\, June 20th at St.Paul’s. 7:00  p.m.
URL:https://happyharmonychoir.ca/event/june-fundraising-summer-concert/
LOCATION:St. Paul’s United Church\, 104 Church Street\, Stirling\, Ontario\, K0K3E0\, Canada
END:VEVENT
BEGIN:VEVENT
DTSTART;TZID=UTC:20180523T190000
DTEND;TZID=UTC:20180523T200000
DTSTAMP:20260422T000646
CREATED:20180420T005941Z
LAST-MODIFIED:20180420T005941Z
UID:889-1527102000-1527105600@happyharmonychoir.ca
SUMMARY:Hastings Manor
DESCRIPTION:We will perform at Hastings Manor on Wednesday\, May 23rd from 7-8pm.
URL:https://happyharmonychoir.ca/event/hastings-manor-2/
LOCATION:Hastings Manor\, 476 Dundas Street West \, Belleville\, Ontario\, K8n5b2\, Canada
END:VEVENT
BEGIN:VEVENT
DTSTART;TZID=UTC:20180405T190000
DTEND;TZID=UTC:20180405T200000
DTSTAMP:20260422T000646
CREATED:20180307T222241Z
LAST-MODIFIED:20180307T222241Z
UID:883-1522954800-1522958400@happyharmonychoir.ca
SUMMARY:Aldersgate Senior's Home
DESCRIPTION:Aldersgate Village in Belleville would like us to perform on Thursday\, April 5th at 7pm. We will have this performance instead of our rehearsal. \n  \n 
URL:https://happyharmonychoir.ca/event/aldersgate-seniors-home/
LOCATION:Aldersgate Village\, 7 Aldersgate Dr \, Belleville\, Ontario\, Canada
END:VEVENT
BEGIN:VEVENT
DTSTART;TZID=UTC:20180319T190000
DTEND;TZID=UTC:20180319T200000
DTSTAMP:20260422T000646
CREATED:20180221T072321Z
LAST-MODIFIED:20180221T072321Z
UID:864-1521486000-1521489600@happyharmonychoir.ca
SUMMARY:Chartwell Bayview Retirement Residence
DESCRIPTION:We will perform for the residents of Chartwell Bayview Retirement Residence on Monday\, March 19th\, at 7pm. Please arrive by at least 6:45pm.
URL:https://happyharmonychoir.ca/event/chartwell-bayview-retirement-residence/
LOCATION:Chartwell Retirement\, 435 Dundas St W\, Belleville\, Ontario\, K8P1B6\, Canada
END:VEVENT
BEGIN:VEVENT
DTSTART;TZID=UTC:20180210T193000
DTEND;TZID=UTC:20180210T203000
DTSTAMP:20260422T000646
CREATED:20171218T203511Z
LAST-MODIFIED:20171218T203511Z
UID:843-1518291000-1518294600@happyharmonychoir.ca
SUMMARY:Boot 'n Bonnet Car Club
DESCRIPTION:We will be entertaining the members of the Boot ‘n Bonnet Car Club on Saturday\, February 10th from 7:30pm-8:15pm on our home stage at the Brittany Brant Music Centre. Please arrive around 7:10pm entering via the back room to the side of the stage (East door of the building). You may park at Tyendinaga Computers for this event and we will clear a path again.
URL:https://happyharmonychoir.ca/event/boot-n-bonnet-car-club/
LOCATION:Brittany Brant Music Centre\, 10 Industrial Park Road\, Shannonville\, Ontario\, K0K3A0\, Canada
END:VEVENT
BEGIN:VEVENT
DTSTART;TZID=UTC:20171216T133000
DTEND;TZID=UTC:20171216T143000
DTSTAMP:20260422T000646
CREATED:20170420T084019Z
LAST-MODIFIED:20171018T230704Z
UID:709-1513431000-1513434600@happyharmonychoir.ca
SUMMARY:Downtown with Dickens - Trenton
DESCRIPTION:This event will take place at the Trenton Town Hall on December 16th\, 2017. \nThe whole of downtown stores and businesses get involved with carolers and characters roaming the streets. The entertainment portion is held at Trenton Town Hall. \nOur performance will be at 1:30pm. \n  \n 
URL:https://happyharmonychoir.ca/event/downtown-with-dickens-trenton/
LOCATION:Trenton Town Hall\, 55 King Street\, Trenton\, Ontario\, K8V3V9\, Canada
END:VEVENT
BEGIN:VEVENT
DTSTART;TZID=UTC:20171212T123000
DTEND;TZID=UTC:20171212T140000
DTSTAMP:20260422T000646
CREATED:20170704T055035Z
LAST-MODIFIED:20170704T055035Z
UID:774-1513081800-1513087200@happyharmonychoir.ca
SUMMARY:BGH Auxiliary Christmas Lunch Meeting
DESCRIPTION:Happy Harmony will perform at the Belleville General Hospital Auxiliary Christmas Lunch Meeting on Tuesday\, December 12th from 12:40pm to 1:25pm at the Greek Banquet Hall in Belleville. \nWe will be singing our regular repertoire with a few Christmas songs!
URL:https://happyharmonychoir.ca/event/bgh-auxiliary-christmas-lunch-meeting/
LOCATION:Greek Banquet Hall\, 70 Harder Street\, Belleville\, Ontario\, Canada
END:VEVENT
BEGIN:VEVENT
DTSTART;TZID=UTC:20171129T183000
DTEND;TZID=UTC:20171129T193000
DTSTAMP:20260422T000646
CREATED:20170918T213633Z
LAST-MODIFIED:20170918T213658Z
UID:810-1511980200-1511983800@happyharmonychoir.ca
SUMMARY:Belleville Christmas Lighting Display
DESCRIPTION:We’ve been asked to sing again at the Belleville Light Display at the Jane Forrester Park. We will perform on Wednesday\, November 29\, exact time TBD but it will be 6:30 or 7 pm for 30 mins.
URL:https://happyharmonychoir.ca/event/belleville-christmas-lighting-display/
LOCATION:Jane Forrester Park\, Belleville\, Ontario\, Canada
END:VEVENT
BEGIN:VEVENT
DTSTART;TZID=UTC:20171118T140000
DTEND;TZID=UTC:20171118T150000
DTSTAMP:20260422T000646
CREATED:20170915T042627Z
LAST-MODIFIED:20171002T205919Z
UID:806-1511013600-1511017200@happyharmonychoir.ca
SUMMARY:Christmas In Heritage Village - Farmtown Park Stirling
DESCRIPTION:We’ve been asked to perform a short 30 minute set at the Christmas in Heritage Village in Stirling. We will sing at 2pm\,  before our performance at the Canadian Tire Ladies’ Night.
URL:https://happyharmonychoir.ca/event/christmas-in-heritage-village-farmtown-park-stirling/
LOCATION:Farmtown Park\, 437 West Front St\, Stirling\, Ontario\, K0K3E0\, Canada
END:VEVENT
BEGIN:VEVENT
DTSTART;VALUE=DATE:20171118
DTEND;VALUE=DATE:20171119
DTSTAMP:20260422T000646
CREATED:20170621T224124Z
LAST-MODIFIED:20170621T224124Z
UID:748-1510963200-1511049599@happyharmonychoir.ca
SUMMARY:Canadian Tire Ladies' Night!
DESCRIPTION:We have been asked to perform again this year for Canadian Tire’s annual Ladies’ Night! We will do a bit of carolling outside for the women who are lined up and waiting at the doors\, and then will proceed inside for our full set! \nThe exact time of this event is TBD.
URL:https://happyharmonychoir.ca/event/canadian-tire-ladies-night-2/
LOCATION:Canadian Tire\, 101 Bell Blvd\, Belleville\, Ontario\, Canada
END:VEVENT
BEGIN:VEVENT
DTSTART;TZID=UTC:20171022T103000
DTEND;TZID=UTC:20171022T113000
DTSTAMP:20260422T000646
CREATED:20170822T201300Z
LAST-MODIFIED:20171002T210105Z
UID:788-1508668200-1508671800@happyharmonychoir.ca
SUMMARY:Mount Pleasant Church Anniversary
DESCRIPTION:We’ve been invited to perform at Mount Pleasant Church just West of Stirling for their anniversary celebration. \nThe performance will take place on October 22\, 2017 at 10:30am. \nDriving Directions to Mt. Pleasant Church\n\nFrom Belleville: \n\nHwy 14 to Stirling\n\nGo straight through village to 4-way stop.\n\nGo through Stop to first right hand turn\, about 100 m\, sign on Right saying Campbellford\, 23 km\, sign on Left saying Campbellford Road. Turn Right.\n\nGo 6 km\, note that Campbellford Road turns into Hoards Road.\n\nAfter the second long curve\, Church is at the top of hill on the right\, clearly visible. Parking lot beside Church.\n\nPlease be careful when exiting the parking lot\, particularly if you are turning left.\n\nNOTE:\n \nIf you check GPS and it shows the church is in the village\, that info is WRONG!\n\nAny further questions\, please ask Anne.\n  \n 
URL:https://happyharmonychoir.ca/event/788/
LOCATION:Mount Pleasant Church\, RR3\, Stirling\, Ontario\, K0K3E0\, Canada
END:VEVENT
BEGIN:VEVENT
DTSTART;TZID=UTC:20170922T190000
DTEND;TZID=UTC:20170922T200000
DTSTAMP:20260422T000646
CREATED:20170720T065529Z
LAST-MODIFIED:20170720T065529Z
UID:780-1506106800-1506110400@happyharmonychoir.ca
SUMMARY:Trenton United Church - Fundraiser for Camp Quinmolac
DESCRIPTION:Happy Harmony has been asked to perform at the Trenton United Church for their fundraising event. The proceeds will go toward sending children to Camp Quinmolac who otherwise couldn’t afford to go. \nWe will perform upstairs in the church sanctuary. \nWe’ve been invited for refreshments after the concert. \nOur performance will be Friday\, September 22nd\, 7-8pm. \n85 Dundas Street East\, Trenton\, ON \nTickets will be for sale through the Trenton United Church A.O.T.S Men’s Group.
URL:https://happyharmonychoir.ca/event/trenton-united-church-fundraiser-for-camp-quinmolac/
LOCATION:Trenton United Church\, 85 Dundas St E\, Trenton\, Ontario\, Canada
END:VEVENT
BEGIN:VEVENT
DTSTART;TZID=UTC:20170921T190000
DTEND;TZID=UTC:20170921T210000
DTSTAMP:20260422T000646
CREATED:20170831T050719Z
LAST-MODIFIED:20170831T050719Z
UID:796-1506020400-1506027600@happyharmonychoir.ca
SUMMARY:Rehearsal at Trenton United Church!
DESCRIPTION:We will rehearse at the Trenton United Church  on Thursday\, September. 21\, 2017 from 7-9pm. \n 
URL:https://happyharmonychoir.ca/event/rehearsal-at-trenton-united-church/
LOCATION:Trenton United Church\, 85 Dundas St E\, Trenton\, Ontario\, Canada
END:VEVENT
BEGIN:VEVENT
DTSTART;TZID=America/New_York:20170824T123000
DTEND;TZID=America/New_York:20170824T133000
DTSTAMP:20260422T000646
CREATED:20170407T040041Z
LAST-MODIFIED:20170420T072517Z
UID:695-1503577800-1503581400@happyharmonychoir.ca
SUMMARY:Probus Gathering - Zwicks Park
DESCRIPTION:We have been asked to sing at the Probus Gathering at Zwicks Park in Belleville on Thursday\, August 24th from 12:30- 1:30pm. \nPlease meet at the west side under the covered bandshell. \nProbus is group of retired professional and business people . There are 2 groups in Belleville and both will be attending this picnic.
URL:https://happyharmonychoir.ca/event/probus-gathering-zwicks-park/
LOCATION:Zwicks Park\, Ontario\, Canada
END:VEVENT
BEGIN:VEVENT
DTSTART;TZID=America/New_York:20170819T110000
DTEND;TZID=America/New_York:20170819T114500
DTSTAMP:20260422T000646
CREATED:20170309T074833Z
LAST-MODIFIED:20170309T074833Z
UID:678-1503140400-1503143100@happyharmonychoir.ca
SUMMARY:Tyendinaga Mohawk Fair
DESCRIPTION:Happy Harmony will perform on the main stage of the Mohawk Fair in Tyendinaga on Saturday\, August 19th at 11am. Upon arrival\, please let the people at the gate know that you are singing with the Happy Harmony choir. \n  \n 
URL:https://happyharmonychoir.ca/event/tyendinaga-mohawk-fair/
LOCATION:Mohawk Fair Grounds\, 1807 York Road\, Tyendinaga Mohawk Territory\, Ontario\, K0K1X0\, Canada
END:VEVENT
BEGIN:VEVENT
DTSTART;TZID=UTC:20170715T173000
DTEND;TZID=UTC:20170715T220000
DTSTAMP:20260422T000646
CREATED:20170428T042019Z
LAST-MODIFIED:20170621T223805Z
UID:712-1500139800-1500156000@happyharmonychoir.ca
SUMMARY:The Dugout Parking Lot Party!
DESCRIPTION:Happy Harmony will perform at the Dugout’s Parking Lot Party in Belleville on Saturday\, July 15th! We will perform at 5:30pm. Proceeds from this event will go to the Fireman’s Toy Drive. \nThere will be tickets available for a draw to win a family trip to Florida! Hope to see you there!
URL:https://happyharmonychoir.ca/event/the-dugout-parking-lot-party/
LOCATION:The Dugout\, 514 Dundas St  E\, Belleville\, Ontario\, k8n1g3\, Canada
END:VEVENT
BEGIN:VEVENT
DTSTART;TZID=America/New_York:20170701T141500
DTEND;TZID=America/New_York:20170701T150000
DTSTAMP:20260422T000646
CREATED:20170515T051557Z
LAST-MODIFIED:20170515T051557Z
UID:714-1498918500-1498921200@happyharmonychoir.ca
SUMMARY:Canada Day at Hastings Manor!
DESCRIPTION:Happy Harmony will perform for the residents of Hastings Manor for Canada Day! We’re on from 2:15pm – 3pm. \n  \n 
URL:https://happyharmonychoir.ca/event/canada-day-at-hastings-manor/
LOCATION:Hastings Manor\, 476 Dundas Street West \, Belleville\, Ontario\, K8n5b2\, Canada
END:VEVENT
BEGIN:VEVENT
DTSTART;TZID=America/New_York:20170624T190000
DTEND;TZID=America/New_York:20170624T210000
DTSTAMP:20260422T000646
CREATED:20170327T074305Z
LAST-MODIFIED:20170412T065103Z
UID:687-1498330800-1498338000@happyharmonychoir.ca
SUMMARY:Happy Harmony Summer Concert!
DESCRIPTION:Our summer fundraising concert will take place on Saturday\, June 24\, 2017 at the St. Paul’s United Church in Stirling\, Ontario. \nJoin us in Stirling at St. Paul’s Church to raise money for Sick Kids Hospital and St. Paul’s Community Outreach! \n 
URL:https://happyharmonychoir.ca/event/hh-summer-concert/
LOCATION:St. Paul’s United Church\, 104 Church Street\, Stirling\, Ontario\, K0K3E0\, Canada
END:VEVENT
BEGIN:VEVENT
DTSTART;TZID=America/New_York:20170621T190000
DTEND;TZID=America/New_York:20170621T210000
DTSTAMP:20260422T000646
CREATED:20170526T031155Z
LAST-MODIFIED:20170526T031211Z
UID:715-1498071600-1498078800@happyharmonychoir.ca
SUMMARY:WEDNESDAY REHEARSAL FOR SUMMER CONCERT!
DESCRIPTION:Attn: Ladies of Happy Harmony \nJust a friendly reminder that we will be rehearsing at the St.Paul’s United Church on Wednesday\, June 21st from 7pm-9pm in preparation for our summer concert!
URL:https://happyharmonychoir.ca/event/wednesday-rehearsal-for-summer-concert/
LOCATION:St. Paul’s United Church\, 104 Church Street\, Stirling\, Ontario\, K0K3E0\, Canada
END:VEVENT
BEGIN:VEVENT
DTSTART;TZID=America/New_York:20170527T133000
DTEND;TZID=America/New_York:20170527T143000
DTSTAMP:20260422T000646
CREATED:20170327T075243Z
LAST-MODIFIED:20170327T075243Z
UID:691-1495891800-1495895400@happyharmonychoir.ca
SUMMARY:Carrington Retirement Home - Staff Appreciation
DESCRIPTION:Carrington Retirement Home in Trenton would like us to perform for their Staff Appreciation BBQ on Saturday\, May 27th. Exact performance time to be confirmed\, but will be between 1pm and 2pm. \nI have requested that we perform indoors. \n  \n  \n 
URL:https://happyharmonychoir.ca/event/carrington-retirement-home-staff-appreciation/
LOCATION:Carrington Retirement Home\, 114 Whites Road\, Trenton\, Ontario\, K8V5P5\, Canada
END:VEVENT
BEGIN:VEVENT
DTSTART;TZID=America/New_York:20170512T171500
DTEND;TZID=America/New_York:20170512T180000
DTSTAMP:20260422T000646
CREATED:20170327T073628Z
LAST-MODIFIED:20170327T181517Z
UID:684-1494609300-1494612000@happyharmonychoir.ca
SUMMARY:Girls Night Out - Downtown Cobourg
DESCRIPTION:We will perform for the opening of Girls Night Out in Downtown Cobourg. This is a shopping event for the women of Cobourg. \nPlease meet at the tent located at Town Hall. They’d like us to perform at 5:15pm to 6pm just after the opening words. This is an outdoor event\, so please dress for the weather. There will be an outdoor heater near the performance tent. \nThere will be a road closure along King Street from Division to George\, and then George to Spring. We’ve been asked to park in one of the municipal parking lots. \n  \n 
URL:https://happyharmonychoir.ca/event/girls-night-out-downtown-cobourg/
LOCATION:Downtown Cobourg\, 55 King St W\, Cobourg\, Ontario\, K9A2M2\, Canada
END:VEVENT
BEGIN:VEVENT
DTSTART;TZID=America/New_York:20170426T190000
DTEND;TZID=America/New_York:20170426T200000
DTSTAMP:20260422T000646
CREATED:20170216T054455Z
LAST-MODIFIED:20170420T072105Z
UID:658-1493233200-1493236800@happyharmonychoir.ca
SUMMARY:Hastings Manor
DESCRIPTION:Happy Harmony will perform for the residents of Hastings Manor on Wednesday\, April 26th at 7pm.
URL:https://happyharmonychoir.ca/event/hastings-manor/
LOCATION:Hastings Manor\, 476 Dundas Street West \, Belleville\, Ontario\, K8n5b2\, Canada
END:VEVENT
BEGIN:VEVENT
DTSTART;TZID=America/New_York:20170406T183000
DTEND;TZID=America/New_York:20170406T200000
DTSTAMP:20260422T000646
CREATED:20170105T024828Z
LAST-MODIFIED:20170105T202836Z
UID:633-1491503400-1491508800@happyharmonychoir.ca
SUMMARY:Karen Dack CD and Book Release
DESCRIPTION:Happy Harmony will be performing for Karen Dack’s CD and book release on Thursday\, April 6th at the Belleville Library in the 3rd Floor Meeting Room. We will arrive at 6:30pm. Exact arrival time to be confirmed. Some of the proceeds from Karen’s CD sales will go to Community Living.
URL:https://happyharmonychoir.ca/event/karen-dack-cd-and-book-release/
LOCATION:Belleville Library\, 254 Pinnacle St\, Belleville\, ON\, K8N3B1\, Canada
END:VEVENT
BEGIN:VEVENT
DTSTART;TZID=America/New_York:20170326T140000
DTEND;TZID=America/New_York:20170326T144500
DTSTAMP:20260422T000646
CREATED:20170309T074358Z
LAST-MODIFIED:20170309T074358Z
UID:675-1490536800-1490539500@happyharmonychoir.ca
SUMMARY:Applefest Lodge Retirement Home
DESCRIPTION:Happy Harmony will be singing for the residents of Applefest Lodge Retirement Home in Brighton on Sunday\, March 26th at 2pm.
URL:https://happyharmonychoir.ca/event/applefest-lodge-retirement-home/
LOCATION:Applefest Lodge\, 120 Elizabeth Street\, Brighton\, Ontario\, K0K1H0\, Canada
END:VEVENT
BEGIN:VEVENT
DTSTART;TZID=America/New_York:20170319T143000
DTEND;TZID=America/New_York:20170319T153000
DTSTAMP:20260422T000646
CREATED:20170210T080737Z
LAST-MODIFIED:20170210T080737Z
UID:656-1489933800-1489937400@happyharmonychoir.ca
SUMMARY:Amica Gardens
DESCRIPTION:Happy Harmony will sing for the residents of Amica Gardens on Sunday\, March 19th from 2:30-3:30pm.
URL:https://happyharmonychoir.ca/event/amica-gardens-2/
LOCATION:Amica Gardens\, 30 College Street\, Belleville\, Ontario\, k8p0a9\, Canada
END:VEVENT
BEGIN:VEVENT
DTSTART;TZID=America/New_York:20161208T183000
DTEND;TZID=America/New_York:20161208T193000
DTSTAMP:20260422T000646
CREATED:20161025T215227Z
LAST-MODIFIED:20161025T215227Z
UID:623-1481221800-1481225400@happyharmonychoir.ca
SUMMARY:Moira Place Long Term Care
DESCRIPTION:We will perform for the residents at Moira Place nursing home in Tweed on Thursday\, December 8th at 6:30pm.
URL:https://happyharmonychoir.ca/event/moira-place-long-term-care/
LOCATION:Moira Place\, 415 Rivers Street West\, Tweed\, Ontario\, K0K3J0\, Canada
END:VEVENT
BEGIN:VEVENT
DTSTART;TZID=America/New_York:20161207T183000
DTEND;TZID=America/New_York:20161207T190000
DTSTAMP:20260422T000646
CREATED:20160810T194737Z
LAST-MODIFIED:20161202T061144Z
UID:539-1481135400-1481137200@happyharmonychoir.ca
SUMMARY:Christmas Light Display - Belleville
DESCRIPTION:Happy Harmony will perform at the Belleville Light Display again this year! Located at the Jane Forrester Park on December 7th. Please arrive at 6pm. We will perform from 6:30-7pm under the performers tent. 
URL:https://happyharmonychoir.ca/event/christmas-light-display-belleville/
LOCATION:Jane Forrester Park\, Belleville\, Ontario\, Canada
END:VEVENT
BEGIN:VEVENT
DTSTART;TZID=America/New_York:20161202T170000
DTEND;TZID=America/New_York:20161202T173000
DTSTAMP:20260422T000646
CREATED:20161024T215209Z
LAST-MODIFIED:20161125T212644Z
UID:617-1480698000-1480699800@happyharmonychoir.ca
SUMMARY:Walsh and Associates- Capers
DESCRIPTION:We will be performing for Shaena’s office Christmas party at Capers Restaurant in downtown Belleville\, ON. \nPerformance is from 5 to 5:30pm. \nAddress: 272 Front Street\, Belleville
URL:https://happyharmonychoir.ca/event/walsh-and-associates-capers/
LOCATION:Capers\, 272 Front Street \, Belleville\, Ontario\, Canada
END:VEVENT
END:VCALENDAR