BEGIN:VCALENDAR
VERSION:2.0
PRODID:-//Happy Harmony Choir - ECPv6.15.20//NONSGML v1.0//EN
CALSCALE:GREGORIAN
METHOD:PUBLISH
X-ORIGINAL-URL:https://happyharmonychoir.ca
X-WR-CALDESC:Events for Happy Harmony Choir
REFRESH-INTERVAL;VALUE=DURATION:PT1H
X-Robots-Tag:noindex
X-PUBLISHED-TTL:PT1H
BEGIN:VTIMEZONE
TZID:UTC
BEGIN:STANDARD
TZOFFSETFROM:+0000
TZOFFSETTO:+0000
TZNAME:UTC
DTSTART:20160101T000000
END:STANDARD
END:VTIMEZONE
BEGIN:VEVENT
DTSTART;TZID=UTC:20191026T190000
DTEND;TZID=UTC:20191026T213000
DTSTAMP:20260421T205418
CREATED:20190527T194107Z
LAST-MODIFIED:20191008T183315Z
UID:1017-1572116400-1572125400@happyharmonychoir.ca
SUMMARY:Fundraiser for CDC QUINTE - St. James Anglican Church Trenton
DESCRIPTION:We have been asked to return again this year for the CDC QUINTE fundraising event at the St. James Anglican Church in Trenton. \nWe will perform two sets beginning at 7pm with a brief intermission. \n 
URL:https://happyharmonychoir.ca/event/fundraiser-for-cdc-quinte-st-james-anglican-church-trenton/
LOCATION:St James Anglican Church\, 15 South St \, Trenton\, Ontario\, Canada
ORGANIZER;CN="Margaret Ellis":MAILTO:ellismargaret@gmail.com
END:VEVENT
BEGIN:VEVENT
DTSTART;TZID=UTC:20191021T190000
DTEND;TZID=UTC:20191021T200000
DTSTAMP:20260421T205418
CREATED:20190822T055315Z
LAST-MODIFIED:20190822T055315Z
UID:1034-1571684400-1571688000@happyharmonychoir.ca
SUMMARY:Cancer Support Group - Hastings Park Bible Church
DESCRIPTION:We will be performing again this year for the Cancer Support Group on Monday\, October 21st in Belleville at the Hastings Park Bible Church at 7pm. Please arrive at 6:45pm. \n 
URL:https://happyharmonychoir.ca/event/cancer-support-group-hastings-park-bible-church/
LOCATION:Hastings Park Bible Church\, 36 Harder Drive\, Belleville\, Ontario\, Canada
END:VEVENT
BEGIN:VEVENT
DTSTART;TZID=UTC:20191006T140000
DTEND;TZID=UTC:20191006T150000
DTSTAMP:20260421T205418
CREATED:20190802T203734Z
LAST-MODIFIED:20190802T203734Z
UID:1030-1570370400-1570374000@happyharmonychoir.ca
SUMMARY:Marble Arts Centre Fundraiser
DESCRIPTION:We have been asked for perform at the Marble Arts Centre in Tweed on Sunday October 6th at 2pm. This concert will raise funds for the Tweed and Area Arts Council. \n 
URL:https://happyharmonychoir.ca/event/marble-arts-centre-fundraiser/
LOCATION:Marble Arts Centre\, 3J0 13 Bridgewater Rd\, Tweed\, Ontario \, Canada
END:VEVENT
BEGIN:VEVENT
DTSTART;TZID=UTC:20190907T143000
DTEND;TZID=UTC:20190907T153000
DTSTAMP:20260421T205418
CREATED:20190517T225101Z
LAST-MODIFIED:20190517T225101Z
UID:1012-1567866600-1567870200@happyharmonychoir.ca
SUMMARY:Aldersgate -Family Reunion
DESCRIPTION:Happy Harmony has been asked to perform at 7 Aldersgate Drive at 2:30pm on September 7th for a family reunion! \nPlease arrive by 2:15pm. \n 
URL:https://happyharmonychoir.ca/event/aldersgate-family-reunion/
LOCATION:Aldersgate Village\, 7 Aldersgate Dr \, Belleville\, Ontario\, Canada
END:VEVENT
BEGIN:VEVENT
DTSTART;TZID=UTC:20190808T123000
DTEND;TZID=UTC:20190808T133000
DTSTAMP:20260421T205418
CREATED:20190511T234402Z
LAST-MODIFIED:20190517T224718Z
UID:1010-1565267400-1565271000@happyharmonychoir.ca
SUMMARY:Probus Luncheon
DESCRIPTION:We’ve been asked to sing again this year at the Probus Lunch in Zwicks Park\, Belleville. \nChoir members\, please wear white tops\, black bottoms and arrive no later that 11:45 am.
URL:https://happyharmonychoir.ca/event/probus-luncheon/
LOCATION:Zwicks Park\, Ontario\, Canada
END:VEVENT
BEGIN:VEVENT
DTSTART;TZID=UTC:20190724T190000
DTEND;TZID=UTC:20190724T200000
DTSTAMP:20260421T205418
CREATED:20190407T033739Z
LAST-MODIFIED:20190407T033739Z
UID:1002-1563994800-1563998400@happyharmonychoir.ca
SUMMARY:Frankford Summer Concert Series
DESCRIPTION:We have been asked to perform for the Frankford Summer Concert Series! \nWednesday\, July 24 from 7-8pm at the Tourist Park Pavilion in Frankford.
URL:https://happyharmonychoir.ca/event/frankford-summer-concert-series/
LOCATION:Frankford Tourist Park Pavilion\, Tourist Park Rd\, Frankford\, Ontario\, K0K2C0\, Canada
END:VEVENT
BEGIN:VEVENT
DTSTART;TZID=UTC:20190627T180000
DTEND;TZID=UTC:20190627T190000
DTSTAMP:20260421T205418
CREATED:20190517T225353Z
LAST-MODIFIED:20190517T225353Z
UID:1015-1561658400-1561662000@happyharmonychoir.ca
SUMMARY:Aldersgate BBQ
DESCRIPTION:We’ve been asked to perform at a BBQ at Aldersgate Drive at 6pm on June 27th. This will replace our usual practice. \nPlease arrive by 5:45pm. \n  \n 
URL:https://happyharmonychoir.ca/event/aldersgate-bbq/
LOCATION:Aldersgate Village\, 7 Aldersgate Dr \, Belleville\, Ontario\, Canada
END:VEVENT
BEGIN:VEVENT
DTSTART;TZID=UTC:20190622T193000
DTEND;TZID=UTC:20190622T210000
DTSTAMP:20260421T205418
CREATED:20190111T190028Z
LAST-MODIFIED:20190111T190028Z
UID:965-1561231800-1561237200@happyharmonychoir.ca
SUMMARY:Happy Harmony Summer Fundraiser!
DESCRIPTION:Happy Harmony Summer Fundraising Concert\nSt\, Mark’s United Church\n237 Cannifton N.\nBelleville\, Ontario\nK0K1K0\n\nSaturday\, June 22\, 7:30 p.m.\n\nHappy Harmony Rehearsal\, Thursday\,  June 20\, 7:00 p.m.
URL:https://happyharmonychoir.ca/event/happy-harmony-summer-fundraiser/
LOCATION:St Mark’s United Church\, 237 Cannifton Road \, Belleville\, Ontario\, K0K 1K0\, Canada
END:VEVENT
BEGIN:VEVENT
DTSTART;TZID=UTC:20190609T140000
DTEND;TZID=UTC:20190609T163000
DTSTAMP:20260421T205418
CREATED:20190404T184408Z
LAST-MODIFIED:20190404T184408Z
UID:1000-1560088800-1560097800@happyharmonychoir.ca
SUMMARY:Old Hay Bay Church Fundraiser
DESCRIPTION:Happy Harmony Choir on Sunday\, June 9th\, 2019 for a fundraising concert for the Restoration Fund of this national historic site. \nLocation: South Fredericksburgh Community Centre in Napanee ON. \nTime: 2pm
URL:https://happyharmonychoir.ca/event/old-hay-bay-church-fundraiser/
LOCATION:South Fredericksburg Hall\, 2478 County Rd 8\, Napanee\, Ontario\, K7R3K7\, Canada
END:VEVENT
BEGIN:VEVENT
DTSTART;TZID=UTC:20190526T140000
DTEND;TZID=UTC:20190526T160000
DTSTAMP:20260421T205418
CREATED:20190111T185739Z
LAST-MODIFIED:20190111T185739Z
UID:961-1558879200-1558886400@happyharmonychoir.ca
SUMMARY:Fundraiser for Trenton Memorial Hospital
DESCRIPTION:Rednersville Albury United Church\n\n2681 Rednersville Road\, (County Road #3)\n\nCarrying Place\, Ontario\n\nSunday\, May 26\, 2019\, 2:00 p.m.\n\nConcert length: As long as we want!\n\nThis concert is a fund raiser for the church and Trenton Memorial Hospital.
URL:https://happyharmonychoir.ca/event/fundraiser-for-trenton-memorial-hospital/
LOCATION:Rednersville Albury United Church\, 2681 Rednersville Rd \, Carrying Place \, Ontario\, Canada
END:VEVENT
BEGIN:VEVENT
DTSTART;TZID=UTC:20190425T190000
DTEND;TZID=UTC:20190425T210000
DTSTAMP:20260421T205418
CREATED:20190328T190307Z
LAST-MODIFIED:20190328T190311Z
UID:998-1556218800-1556226000@happyharmonychoir.ca
SUMMARY:Season's Retirement
DESCRIPTION:Our date for Season’s Retirement has moved to April 25th at 7pm!
URL:https://happyharmonychoir.ca/event/seasons-retirement/
LOCATION:Seasons Retirement Home\, 344 Dufferin Avenue\, Trenton\, Ontario\, K8V5G9\, Canada
END:VEVENT
BEGIN:VEVENT
DTSTART;TZID=UTC:20190224T140000
DTEND;TZID=UTC:20190224T160000
DTSTAMP:20260421T205418
CREATED:20190116T053433Z
LAST-MODIFIED:20190116T053433Z
UID:973-1551016800-1551024000@happyharmonychoir.ca
SUMMARY:Fundraiser: Frankford United Church
DESCRIPTION:We’ve been invited to sing for a fundraising concert at the Frankford United Church on February 24th\, 2pm.
URL:https://happyharmonychoir.ca/event/fundraiser-frankford-united-church/
LOCATION:Frankford United Church\, 61 Mill Street \, Frankford \, Ontario\, Canada
END:VEVENT
BEGIN:VEVENT
DTSTART;TZID=UTC:20190214T190000
DTEND;TZID=UTC:20190214T200000
DTSTAMP:20260421T205418
CREATED:20190115T193006Z
LAST-MODIFIED:20190115T193006Z
UID:971-1550170800-1550174400@happyharmonychoir.ca
SUMMARY:Aldersgate Village
DESCRIPTION:We will be performing on Thursday\, February 14\, 2019 at 7pm for the residents of Aldersgate in Belleville! \nThis performance will replace our weekly practice.
URL:https://happyharmonychoir.ca/event/aldersgate-village/
LOCATION:Aldersgate Village\, 7 Aldersgate Dr \, Belleville\, Ontario\, Canada
END:VEVENT
BEGIN:VEVENT
DTSTART;TZID=UTC:20181210T190000
DTEND;TZID=UTC:20181210T200000
DTSTAMP:20260421T205418
CREATED:20180809T190434Z
LAST-MODIFIED:20180809T190547Z
UID:914-1544468400-1544472000@happyharmonychoir.ca
SUMMARY:Knights and Ladies of Columbus Dinner
DESCRIPTION:Location : Knights of Columbus Hall in Trenton \nStart Time : Between 7pm-7:30pm. Please arrive no later than 6:45pm! \nDuration : One Hour \nThis is a private event! 
URL:https://happyharmonychoir.ca/event/knights-and-ladies-of-columbus-dinner/
LOCATION:Knights of Columbus Hall\, 57 Stella Crescent\, Trenton\, Ontario\, K8V1W6\, Canada
END:VEVENT
BEGIN:VEVENT
DTSTART;TZID=UTC:20181201T130000
DTEND;TZID=UTC:20181201T140000
DTSTAMP:20260421T205418
CREATED:20180627T010223Z
LAST-MODIFIED:20180706T051142Z
UID:897-1543669200-1543672800@happyharmonychoir.ca
SUMMARY:Downtown with Dickens
DESCRIPTION:We will be performing again this year at the Trenton Town Hall for the Downtown with Dickens event! Saturday\, December 1\, 1pm-1:45pm.
URL:https://happyharmonychoir.ca/event/downtown-with-dickens/
LOCATION:Trenton Town Hall\, 55 King Street\, Trenton\, Ontario\, K8V3V9\, Canada
END:VEVENT
BEGIN:VEVENT
DTSTART;TZID=UTC:20181129T190000
DTEND;TZID=UTC:20181129T200000
DTSTAMP:20260421T205418
CREATED:20181003T051132Z
LAST-MODIFIED:20181003T051132Z
UID:931-1543518000-1543521600@happyharmonychoir.ca
SUMMARY:Seasons Retirement Home - Trenton
DESCRIPTION:We will be performing for the residents at Seasons Retirement Home in Trenton on Thursday\, November 29th at 7:15pm. This will replace our weekly practice. \nPlease arrive at 7:00pm.
URL:https://happyharmonychoir.ca/event/seasons-retirement-home-trenton/
LOCATION:Seasons Retirement Home\, 344 Dufferin Avenue\, Trenton\, Ontario\, K8V5G9\, Canada
END:VEVENT
BEGIN:VEVENT
DTSTART;TZID=UTC:20181123T190000
DTEND;TZID=UTC:20181123T193000
DTSTAMP:20260421T205418
CREATED:20181001T032334Z
LAST-MODIFIED:20181001T191409Z
UID:928-1542999600-1543001400@happyharmonychoir.ca
SUMMARY:Belleville Light Display
DESCRIPTION:We’ve been invited to sing again this year at the Belleville Light Display at Jane Forrester Park in Belleville on FRIDAY\, November 23 from 7 to 7:30pm. \nPlease dress warm and arrive at 6:45pm.
URL:https://happyharmonychoir.ca/event/belleville-light-display/
LOCATION:Jane Forrester Park\, Belleville\, Ontario\, Canada
END:VEVENT
BEGIN:VEVENT
DTSTART;TZID=UTC:20181117T183000
DTEND;TZID=UTC:20181117T210000
DTSTAMP:20260421T205418
CREATED:20181107T172509Z
LAST-MODIFIED:20181107T172509Z
UID:947-1542479400-1542488400@happyharmonychoir.ca
SUMMARY:Canadian Tire Ladies Night - Belleville
DESCRIPTION:We’ve been asked to perform at the Canadian Tire Ladies Night again this year! \nPlease arrive at 6:45pm and tell the people at the door that you are with the choir. \nWe will sing two short 20-30min sets\, one at 7pm and one at 8pm. In between\, you’re welcome to shop!
URL:https://happyharmonychoir.ca/event/canadian-tire-ladies-night-belleville/
LOCATION:Canadian Tire\, 101 Bell Blvd\, Belleville\, Ontario\, Canada
END:VEVENT
BEGIN:VEVENT
DTSTART;TZID=UTC:20181020T190000
DTEND;TZID=UTC:20181020T200000
DTSTAMP:20260421T205418
CREATED:20180702T022858Z
LAST-MODIFIED:20180706T051059Z
UID:909-1540062000-1540065600@happyharmonychoir.ca
SUMMARY:St James Anglican Church Trenton
DESCRIPTION:We’ve been asked to perform at the St James Anglican Church in Trenton on Saturday\, October 20th\, 2018 at 7pm.
URL:https://happyharmonychoir.ca/event/st-james-anglican-church-trenton/
LOCATION:St James Anglican Church\, 15 South St \, Trenton\, Ontario\, Canada
ORGANIZER;CN="Margaret Ellis":MAILTO:ellismargaret@gmail.com
END:VEVENT
BEGIN:VEVENT
DTSTART;TZID=UTC:20180908T170000
DTEND;TZID=UTC:20180908T190000
DTSTAMP:20260421T205418
CREATED:20180621T164859Z
LAST-MODIFIED:20180706T051032Z
UID:894-1536426000-1536433200@happyharmonychoir.ca
SUMMARY:McKeown Motor Sales Anniversary!
DESCRIPTION:MCKEOWN MOTOR SALES: September 8\, 2018\n\nPRIVATE EVENT: 85TH ANNIVERSARY\n\n2589 Springbrook Road\n\nSpringbrook\, Ontario\n\nK0K 3C0\n\nWe will be singing two sets: 5:15-5:45 p.m. and 6:15-6:45 p.m.
URL:https://happyharmonychoir.ca/event/mckeown-motor-sales-anniversary/
LOCATION:McKeown Auto Sales\, 2589 Springbrook Road\, Springbrook\, Ontario \, K0k3c0\, Canada
END:VEVENT
BEGIN:VEVENT
DTSTART;TZID=UTC:20180821T120000
DTEND;TZID=UTC:20180821T130000
DTSTAMP:20260421T205418
CREATED:20180302T004453Z
LAST-MODIFIED:20180706T050956Z
UID:870-1534852800-1534856400@happyharmonychoir.ca
SUMMARY:Probus Picnic!
DESCRIPTION:We have been asked to return to the Probus Picnic at Zwick’s Park in August! The performance will take place on Tuesday\, August 21st. We will perform from Noon-1pm.
URL:https://happyharmonychoir.ca/event/probus-picnic/
LOCATION:Zwicks Park\, Ontario\, Canada
END:VEVENT
BEGIN:VEVENT
DTSTART;TZID=UTC:20180710T190000
DTEND;TZID=UTC:20180710T203000
DTSTAMP:20260421T205418
CREATED:20180613T185126Z
LAST-MODIFIED:20180706T050922Z
UID:891-1531249200-1531254600@happyharmonychoir.ca
SUMMARY:Quinte Gardens
DESCRIPTION:We will be singing at Quinte Gardens Retirement home on Tuesday\, July 10\, from 7:15-8:15pm. Shaena will be conducting for this event!
URL:https://happyharmonychoir.ca/event/quinte-gardens/
LOCATION:Quinte Gardens\, 30 College St W\, Belleville\, Ontario\, K0K1X0 \, Canada
END:VEVENT
BEGIN:VEVENT
DTSTART;TZID=UTC:20180623T190000
DTEND;TZID=UTC:20180623T210000
DTSTAMP:20260421T205418
CREATED:20171218T225807Z
LAST-MODIFIED:20171218T232657Z
UID:846-1529780400-1529787600@happyharmonychoir.ca
SUMMARY:June Fundraising Summer Concert!
DESCRIPTION:Saturday\, June 23\, 2018\nSt.Paul’s United Church\n104 Church St.\, Stirling\n 7:00 p.m. Reception to follow\n\n\n Choir Members:\nWe will have a dress rehearsal on\n WEDNESDAY\, June 20th at St.Paul’s. 7:00  p.m.
URL:https://happyharmonychoir.ca/event/june-fundraising-summer-concert/
LOCATION:St. Paul’s United Church\, 104 Church Street\, Stirling\, Ontario\, K0K3E0\, Canada
END:VEVENT
BEGIN:VEVENT
DTSTART;TZID=UTC:20180523T190000
DTEND;TZID=UTC:20180523T200000
DTSTAMP:20260421T205418
CREATED:20180420T005941Z
LAST-MODIFIED:20180420T005941Z
UID:889-1527102000-1527105600@happyharmonychoir.ca
SUMMARY:Hastings Manor
DESCRIPTION:We will perform at Hastings Manor on Wednesday\, May 23rd from 7-8pm.
URL:https://happyharmonychoir.ca/event/hastings-manor-2/
LOCATION:Hastings Manor\, 476 Dundas Street West \, Belleville\, Ontario\, K8n5b2\, Canada
END:VEVENT
BEGIN:VEVENT
DTSTART;TZID=UTC:20180405T190000
DTEND;TZID=UTC:20180405T200000
DTSTAMP:20260421T205418
CREATED:20180307T222241Z
LAST-MODIFIED:20180307T222241Z
UID:883-1522954800-1522958400@happyharmonychoir.ca
SUMMARY:Aldersgate Senior's Home
DESCRIPTION:Aldersgate Village in Belleville would like us to perform on Thursday\, April 5th at 7pm. We will have this performance instead of our rehearsal. \n  \n 
URL:https://happyharmonychoir.ca/event/aldersgate-seniors-home/
LOCATION:Aldersgate Village\, 7 Aldersgate Dr \, Belleville\, Ontario\, Canada
END:VEVENT
BEGIN:VEVENT
DTSTART;TZID=UTC:20180319T190000
DTEND;TZID=UTC:20180319T200000
DTSTAMP:20260421T205418
CREATED:20180221T072321Z
LAST-MODIFIED:20180221T072321Z
UID:864-1521486000-1521489600@happyharmonychoir.ca
SUMMARY:Chartwell Bayview Retirement Residence
DESCRIPTION:We will perform for the residents of Chartwell Bayview Retirement Residence on Monday\, March 19th\, at 7pm. Please arrive by at least 6:45pm.
URL:https://happyharmonychoir.ca/event/chartwell-bayview-retirement-residence/
LOCATION:Chartwell Retirement\, 435 Dundas St W\, Belleville\, Ontario\, K8P1B6\, Canada
END:VEVENT
BEGIN:VEVENT
DTSTART;TZID=UTC:20180210T193000
DTEND;TZID=UTC:20180210T203000
DTSTAMP:20260421T205418
CREATED:20171218T203511Z
LAST-MODIFIED:20171218T203511Z
UID:843-1518291000-1518294600@happyharmonychoir.ca
SUMMARY:Boot 'n Bonnet Car Club
DESCRIPTION:We will be entertaining the members of the Boot ‘n Bonnet Car Club on Saturday\, February 10th from 7:30pm-8:15pm on our home stage at the Brittany Brant Music Centre. Please arrive around 7:10pm entering via the back room to the side of the stage (East door of the building). You may park at Tyendinaga Computers for this event and we will clear a path again.
URL:https://happyharmonychoir.ca/event/boot-n-bonnet-car-club/
LOCATION:Brittany Brant Music Centre\, 10 Industrial Park Road\, Shannonville\, Ontario\, K0K3A0\, Canada
END:VEVENT
BEGIN:VEVENT
DTSTART;TZID=UTC:20171216T133000
DTEND;TZID=UTC:20171216T143000
DTSTAMP:20260421T205418
CREATED:20170420T084019Z
LAST-MODIFIED:20171018T230704Z
UID:709-1513431000-1513434600@happyharmonychoir.ca
SUMMARY:Downtown with Dickens - Trenton
DESCRIPTION:This event will take place at the Trenton Town Hall on December 16th\, 2017. \nThe whole of downtown stores and businesses get involved with carolers and characters roaming the streets. The entertainment portion is held at Trenton Town Hall. \nOur performance will be at 1:30pm. \n  \n 
URL:https://happyharmonychoir.ca/event/downtown-with-dickens-trenton/
LOCATION:Trenton Town Hall\, 55 King Street\, Trenton\, Ontario\, K8V3V9\, Canada
END:VEVENT
BEGIN:VEVENT
DTSTART;TZID=UTC:20171212T123000
DTEND;TZID=UTC:20171212T140000
DTSTAMP:20260421T205418
CREATED:20170704T055035Z
LAST-MODIFIED:20170704T055035Z
UID:774-1513081800-1513087200@happyharmonychoir.ca
SUMMARY:BGH Auxiliary Christmas Lunch Meeting
DESCRIPTION:Happy Harmony will perform at the Belleville General Hospital Auxiliary Christmas Lunch Meeting on Tuesday\, December 12th from 12:40pm to 1:25pm at the Greek Banquet Hall in Belleville. \nWe will be singing our regular repertoire with a few Christmas songs!
URL:https://happyharmonychoir.ca/event/bgh-auxiliary-christmas-lunch-meeting/
LOCATION:Greek Banquet Hall\, 70 Harder Street\, Belleville\, Ontario\, Canada
END:VEVENT
BEGIN:VEVENT
DTSTART;TZID=UTC:20171129T183000
DTEND;TZID=UTC:20171129T193000
DTSTAMP:20260421T205418
CREATED:20170918T213633Z
LAST-MODIFIED:20170918T213658Z
UID:810-1511980200-1511983800@happyharmonychoir.ca
SUMMARY:Belleville Christmas Lighting Display
DESCRIPTION:We’ve been asked to sing again at the Belleville Light Display at the Jane Forrester Park. We will perform on Wednesday\, November 29\, exact time TBD but it will be 6:30 or 7 pm for 30 mins.
URL:https://happyharmonychoir.ca/event/belleville-christmas-lighting-display/
LOCATION:Jane Forrester Park\, Belleville\, Ontario\, Canada
END:VEVENT
END:VCALENDAR