BEGIN:VCALENDAR
VERSION:2.0
PRODID:-//Happy Harmony Choir - ECPv6.15.20//NONSGML v1.0//EN
CALSCALE:GREGORIAN
METHOD:PUBLISH
X-WR-CALNAME:Happy Harmony Choir
X-ORIGINAL-URL:https://happyharmonychoir.ca
X-WR-CALDESC:Events for Happy Harmony Choir
REFRESH-INTERVAL;VALUE=DURATION:PT1H
X-Robots-Tag:noindex
X-PUBLISHED-TTL:PT1H
BEGIN:VTIMEZONE
TZID:America/New_York
BEGIN:DAYLIGHT
TZOFFSETFROM:-0500
TZOFFSETTO:-0400
TZNAME:EDT
DTSTART:20140309T070000
END:DAYLIGHT
BEGIN:STANDARD
TZOFFSETFROM:-0400
TZOFFSETTO:-0500
TZNAME:EST
DTSTART:20141102T060000
END:STANDARD
BEGIN:DAYLIGHT
TZOFFSETFROM:-0500
TZOFFSETTO:-0400
TZNAME:EDT
DTSTART:20150308T070000
END:DAYLIGHT
BEGIN:STANDARD
TZOFFSETFROM:-0400
TZOFFSETTO:-0500
TZNAME:EST
DTSTART:20151101T060000
END:STANDARD
BEGIN:DAYLIGHT
TZOFFSETFROM:-0500
TZOFFSETTO:-0400
TZNAME:EDT
DTSTART:20160313T070000
END:DAYLIGHT
BEGIN:STANDARD
TZOFFSETFROM:-0400
TZOFFSETTO:-0500
TZNAME:EST
DTSTART:20161106T060000
END:STANDARD
BEGIN:DAYLIGHT
TZOFFSETFROM:-0500
TZOFFSETTO:-0400
TZNAME:EDT
DTSTART:20170312T070000
END:DAYLIGHT
BEGIN:STANDARD
TZOFFSETFROM:-0400
TZOFFSETTO:-0500
TZNAME:EST
DTSTART:20171105T060000
END:STANDARD
END:VTIMEZONE
BEGIN:VEVENT
DTSTART;TZID=America/New_York:20160320T143000
DTEND;TZID=America/New_York:20160320T153000
DTSTAMP:20260425T072147
CREATED:20160106T042807Z
LAST-MODIFIED:20160107T232533Z
UID:404-1458484200-1458487800@happyharmonychoir.ca
SUMMARY:Amica Gardens
DESCRIPTION:We will perform for one hour at Amica Gardens in Belleville on Sunday\, March 20th from 2:30pm-3:30pm.  \nPerformance attire will be combinations of black and white. Address is below.
URL:https://happyharmonychoir.ca/event/amica-gardens/
LOCATION:Amica Gardens\, 30 College Street\, Belleville\, Ontario\, k8p0a9\, Canada
END:VEVENT
BEGIN:VEVENT
DTSTART;TZID=America/New_York:20160213T193000
DTEND;TZID=America/New_York:20160213T203000
DTSTAMP:20260425T072147
CREATED:20160106T042235Z
LAST-MODIFIED:20160107T232033Z
UID:402-1455391800-1455395400@happyharmonychoir.ca
SUMMARY:Boot and Bonnet Car Club
DESCRIPTION:This event will take place at the Brittany Brant Music Centre. Choir will arrive once guests have eaten their meal\, and will perform during dessert and coffee/tea time. Exact arrival time to be confirmed.  \nPrivate function for the Boot and Bonnet Club.
URL:https://happyharmonychoir.ca/event/boot-and-bonnet-car-club/
LOCATION:Brittany Brant Music Centre\, 10 Industrial Park Road\, Shannonville\, Ontario\, K0K3A0\, Canada
END:VEVENT
BEGIN:VEVENT
DTSTART;TZID=America/New_York:20151209T190000
DTEND;TZID=America/New_York:20151209T193000
DTSTAMP:20260425T072147
CREATED:20151009T053121Z
LAST-MODIFIED:20151009T053247Z
UID:281-1449687600-1449689400@happyharmonychoir.ca
SUMMARY:City of Belleville Light Display
DESCRIPTION:The City of Belleville Light Display is inviting a musical group each Wednesday evening to perform at the location of the Light Display each Wednesday evening during the Christmas season. THe location is at the Jane Forrester Park\, Myers Pier (South Front St & Harbour Rd\, Belleville). Each Wednesday evening\, a local bus company is donating free bus service from a few specific locations to bring citizens to the Jane Forrester Park to enjoy the lights and the performances from 7:00pm to 7:30pm. Happy Harmony will perform on DECEMBER 9th at 7pm.
URL:https://happyharmonychoir.ca/event/city-of-belleville-light-display/
LOCATION:Ontario
END:VEVENT
BEGIN:VEVENT
DTSTART;TZID=America/New_York:20151206T140000
DTEND;TZID=America/New_York:20151206T160000
DTSTAMP:20260425T072147
CREATED:20151009T052041Z
LAST-MODIFIED:20151009T052041Z
UID:278-1449410400-1449417600@happyharmonychoir.ca
SUMMARY:Happy Harmony Christmas!
DESCRIPTION:Let’s celebrate our first few months as a choir by sharing our music with our family and friends!
URL:https://happyharmonychoir.ca/event/happy-harmony-christmas/
LOCATION:Brittany Brant Music Centre\, 10 Industrial Park Road\, Shannonville\, Ontario\, K0K3A0\, Canada
ORGANIZER;CN="Brittany Brant":MAILTO:info@HappyHarmonyChoir.com
END:VEVENT
END:VCALENDAR