BEGIN:VCALENDAR
VERSION:2.0
PRODID:-//Happy Harmony Choir - ECPv6.15.20//NONSGML v1.0//EN
CALSCALE:GREGORIAN
METHOD:PUBLISH
X-WR-CALNAME:Happy Harmony Choir
X-ORIGINAL-URL:https://happyharmonychoir.ca
X-WR-CALDESC:Events for Happy Harmony Choir
REFRESH-INTERVAL;VALUE=DURATION:PT1H
X-Robots-Tag:noindex
X-PUBLISHED-TTL:PT1H
BEGIN:VTIMEZONE
TZID:America/New_York
BEGIN:DAYLIGHT
TZOFFSETFROM:-0500
TZOFFSETTO:-0400
TZNAME:EDT
DTSTART:20250309T070000
END:DAYLIGHT
BEGIN:STANDARD
TZOFFSETFROM:-0400
TZOFFSETTO:-0500
TZNAME:EST
DTSTART:20251102T060000
END:STANDARD
BEGIN:DAYLIGHT
TZOFFSETFROM:-0500
TZOFFSETTO:-0400
TZNAME:EDT
DTSTART:20260308T070000
END:DAYLIGHT
BEGIN:STANDARD
TZOFFSETFROM:-0400
TZOFFSETTO:-0500
TZNAME:EST
DTSTART:20261101T060000
END:STANDARD
BEGIN:DAYLIGHT
TZOFFSETFROM:-0500
TZOFFSETTO:-0400
TZNAME:EDT
DTSTART:20270314T070000
END:DAYLIGHT
BEGIN:STANDARD
TZOFFSETFROM:-0400
TZOFFSETTO:-0500
TZNAME:EST
DTSTART:20271107T060000
END:STANDARD
END:VTIMEZONE
BEGIN:VEVENT
DTSTART;TZID=America/New_York:20260422T140000
DTEND;TZID=America/New_York:20260422T153000
DTSTAMP:20260421T054053
CREATED:20260226T165934Z
LAST-MODIFIED:20260226T170142Z
UID:4772-1776866400-1776871800@happyharmonychoir.ca
SUMMARY:Cobourg Choir at the VON Adult Daycare Program
DESCRIPTION:Cobourg choir\, we have agreed to sing at the VON adult daycare program at 800 D’arcy St\, Bldg 18 in Cobourg\, on Wednesday\, April 22nd at 2 p m.
URL:https://happyharmonychoir.ca/event/cobourg-choir-von-adult-daycare-program/
LOCATION:VON Adult Daycare Program\, 700 D'Arcy Street Bldg 18\, Cobourg\, Ontario\, Canada
ATTACH;FMTTYPE=image/jpeg:https://happyharmonychoir.ca/wp-content/uploads/2024/12/Logo.jpg
ORGANIZER;CN="Brittany Brant":MAILTO:info@HappyHarmonyChoir.com
END:VEVENT
BEGIN:VEVENT
DTSTART;TZID=America/New_York:20260502T140000
DTEND;TZID=America/New_York:20260502T153000
DTSTAMP:20260421T054053
CREATED:20260222T163137Z
LAST-MODIFIED:20260222T163137Z
UID:4769-1777730400-1777735800@happyharmonychoir.ca
SUMMARY:Happy Harmony Choir at Seasons Retirement Community
DESCRIPTION:Seasons Retirement Community\, Trenton Ontario \nSaturday\, May 2\, 2026 at 2:00 p.m.
URL:https://happyharmonychoir.ca/event/happy-harmony-choir-at-seasons-retirement-community/
LOCATION:Seasons Retirement Home\, 344 Dufferin Avenue\, Trenton\, Ontario\, K8V5G9\, Canada
ATTACH;FMTTYPE=image/webp:https://happyharmonychoir.ca/wp-content/uploads/2026/02/seasons.webp
ORGANIZER;CN="Brittany Brant":MAILTO:info@HappyHarmonyChoir.com
END:VEVENT
BEGIN:VEVENT
DTSTART;TZID=America/New_York:20260507T190000
DTEND;TZID=America/New_York:20260507T203000
DTSTAMP:20260421T054053
CREATED:20251110T142200Z
LAST-MODIFIED:20251110T142200Z
UID:4716-1778180400-1778185800@happyharmonychoir.ca
SUMMARY:Island Park Retirement Residence\, Campbellford
DESCRIPTION:Island Park Retirement Residence\, Campbellford\nThursday\, May 7 2026 at 7:00 p.m.
URL:https://happyharmonychoir.ca/event/island-park-retirement-residence-campbellford/
LOCATION:Aspira Island Park Retirement Living\, 18 Trent Drive\, Campbellford\, Ontario\, Canada
ATTACH;FMTTYPE=image/jpeg:https://happyharmonychoir.ca/wp-content/uploads/2025/11/island-park-campbellford.jpeg
ORGANIZER;CN="Brittany Brant":MAILTO:info@HappyHarmonyChoir.com
END:VEVENT
BEGIN:VEVENT
DTSTART;TZID=America/New_York:20260509T140000
DTEND;TZID=America/New_York:20260509T153000
DTSTAMP:20260421T054053
CREATED:20260228T181604Z
LAST-MODIFIED:20260228T181604Z
UID:4774-1778335200-1778340600@happyharmonychoir.ca
SUMMARY:Caressant Care Residence
DESCRIPTION:Caressant Care Residence\, 58 Bursthall Street\, Marmora on Saturday\, May 9\, 2026 at 2:00 p.m.
URL:https://happyharmonychoir.ca/event/caressant-care-residence/
LOCATION:Caressant Care Residence\, 58 Bursthall St\, Marmora\,\, ON\, K0K 2M0\, Canada
ATTACH;FMTTYPE=image/jpeg:https://happyharmonychoir.ca/wp-content/uploads/2024/12/Logo.jpg
ORGANIZER;CN="Brittany Brant":MAILTO:info@HappyHarmonyChoir.com
END:VEVENT
BEGIN:VEVENT
DTSTART;TZID=America/New_York:20260530T190000
DTEND;TZID=America/New_York:20260530T210000
DTSTAMP:20260421T054053
CREATED:20260213T192400Z
LAST-MODIFIED:20260213T192528Z
UID:4766-1780167600-1780174800@happyharmonychoir.ca
SUMMARY:HH year-end performance ﻿2026
DESCRIPTION:Grace Christian Reform Church in Cobourg – Saturday\, May 30th for a joint choir performance from 7:00 to 9:00 PM.  Put it in your calendars!
URL:https://happyharmonychoir.ca/event/hh-year-end-performance-2026/
LOCATION:Grace Christian Reformed Church\, 440 King Street East\, Cobourg\, Ontario\, K9A1M6\, Canada
ATTACH;FMTTYPE=image/jpeg:https://happyharmonychoir.ca/wp-content/uploads/2024/12/Logo.jpg
ORGANIZER;CN="Brittany Brant":MAILTO:info@HappyHarmonyChoir.com
END:VEVENT
BEGIN:VEVENT
DTSTART;TZID=America/New_York:20260606T140000
DTEND;TZID=America/New_York:20260606T153000
DTSTAMP:20260421T054053
CREATED:20260115T165726Z
LAST-MODIFIED:20260302T162756Z
UID:4747-1780754400-1780759800@happyharmonychoir.ca
SUMMARY:Crown Ridge Retirement Home
DESCRIPTION:Happy Harmony is pleased to be singing for the residents of Crown Ridge\, Trenton on Saturday\, June 6 at 2:00 p.m.
URL:https://happyharmonychoir.ca/event/crown-ridge-retirement-home/
LOCATION:Crown Ridge Retirement Home\, 106 Crown Street\, Trenton\, Ontario\, Canada
ATTACH;FMTTYPE=image/png:https://happyharmonychoir.ca/wp-content/uploads/2024/12/Logo-white.png
ORGANIZER;CN="Brittany Brant":MAILTO:info@HappyHarmonyChoir.com
END:VEVENT
BEGIN:VEVENT
DTSTART;TZID=America/New_York:20260610T103000
DTEND;TZID=America/New_York:20260610T233000
DTSTAMP:20260421T054053
CREATED:20251118T201542Z
LAST-MODIFIED:20251118T201542Z
UID:4722-1781087400-1781134200@happyharmonychoir.ca
SUMMARY:Owen Gibb Community Centre
DESCRIPTION:Time Requested: 10:30 a.m. Arrival. Concert can be 45 minutes to 60 minutes in length. \nBelleville and Cobourg HH members are encouraged to join us for the performance.\n—
URL:https://happyharmonychoir.ca/event/owen-gibb-community-centre/
LOCATION:Owen Gibb Community Centre\, 75 Elizabeth Street\, Brighton\, Ontario\, K0K 1H0\, Canada
ATTACH;FMTTYPE=image/jpeg:https://happyharmonychoir.ca/wp-content/uploads/2024/12/Logo.jpg
ORGANIZER;CN="Brittany Brant":MAILTO:info@HappyHarmonyChoir.com
END:VEVENT
BEGIN:VEVENT
DTSTART;TZID=America/New_York:20261006T101500
DTEND;TZID=America/New_York:20261006T120000
DTSTAMP:20260421T054053
CREATED:20260211T150530Z
LAST-MODIFIED:20260211T151918Z
UID:4758-1791281700-1791288000@happyharmonychoir.ca
SUMMARY:AUTUMN ESCAPE: PROBUS DISTRICT 1
DESCRIPTION:Happy Harmony will provide entertainment for an event at the National Air Force Museum\, 8 Wing CFB\, Trenton on Tuesday\, October 6 at 10:15 a.m. \nThe last Probus District 1 event was held in 2019 with an attendance of 400 Probus Club members. Happy Harmony invites singers from our choirs in Belleville\, Cobourg and Oshawa to participate in this exciting performance.
URL:https://happyharmonychoir.ca/event/autumn-escape-probus-district-1/
LOCATION:National Air Force Museum\, 220 RCAF Rd.\, Trenton\, ON\, K0K3W0\, Canada
ATTACH;FMTTYPE=image/jpeg:https://happyharmonychoir.ca/wp-content/uploads/2026/02/rcaf.jpg
ORGANIZER;CN="Brittany Brant":MAILTO:info@HappyHarmonyChoir.com
END:VEVENT
BEGIN:VEVENT
DTSTART;TZID=America/New_York:20261128T140000
DTEND;TZID=America/New_York:20261128T150000
DTSTAMP:20260421T054053
CREATED:20251126T145743Z
LAST-MODIFIED:20251126T145804Z
UID:4728-1795874400-1795878000@happyharmonychoir.ca
SUMMARY:HASTINGS MANOR Christmas Combo Concert
DESCRIPTION:LOCATION: HASTINGS MANOR\, 476 Dundas Street West\, Belleville\, Ontario \nDATE: Saturday\, November 28\, 2026\,  Christmas Combo Concert at 2:00 p.m.
URL:https://happyharmonychoir.ca/event/hastings-manor-christmas-combo-concert-nov-2026/
LOCATION:Hastings Manor\, 476 Dundas Street West \, Belleville\, Ontario\, K8n5b2\, Canada
ATTACH;FMTTYPE=image/jpeg:https://happyharmonychoir.ca/wp-content/uploads/2024/12/Logo.jpg
ORGANIZER;CN="Brittany Brant":MAILTO:info@HappyHarmonyChoir.com
END:VEVENT
BEGIN:VEVENT
DTSTART;TZID=America/New_York:20261203T190000
DTEND;TZID=America/New_York:20261203T203000
DTSTAMP:20260421T054053
CREATED:20251110T142353Z
LAST-MODIFIED:20251110T142353Z
UID:4719-1796324400-1796329800@happyharmonychoir.ca
SUMMARY:Island Park Retirement Residence\, Campbellford
DESCRIPTION:Island Park Retirement Residence\, Campbellford\nThursday\, December 3\, 2026 at 7:00 p.m.
URL:https://happyharmonychoir.ca/event/island-park-retirement-residence-campbellford-2/
LOCATION:ON
ATTACH;FMTTYPE=image/jpeg:https://happyharmonychoir.ca/wp-content/uploads/2025/11/island-park-campbellford.jpeg
END:VEVENT
END:VCALENDAR