BEGIN:VCALENDAR
VERSION:2.0
PRODID:-//Happy Harmony Choir - ECPv6.15.20//NONSGML v1.0//EN
CALSCALE:GREGORIAN
METHOD:PUBLISH
X-WR-CALNAME:Happy Harmony Choir
X-ORIGINAL-URL:https://happyharmonychoir.ca
X-WR-CALDESC:Events for Happy Harmony Choir
REFRESH-INTERVAL;VALUE=DURATION:PT1H
X-Robots-Tag:noindex
X-PUBLISHED-TTL:PT1H
BEGIN:VTIMEZONE
TZID:UTC
BEGIN:STANDARD
TZOFFSETFROM:+0000
TZOFFSETTO:+0000
TZNAME:UTC
DTSTART:20210101T000000
END:STANDARD
END:VTIMEZONE
BEGIN:VEVENT
DTSTART;TZID=UTC:20221127T140000
DTEND;TZID=UTC:20221127T150000
DTSTAMP:20260424T211615
CREATED:20220909T055648Z
LAST-MODIFIED:20220911T062145Z
UID:1238-1669557600-1669561200@happyharmonychoir.ca
SUMMARY:Frankford United Church Community Outreach
DESCRIPTION:Happy Harmony Choir will be singing at Frankford United Church on Sunday\, November 27th at 2:00pm.  \nAdmission: Free Will Donation\nProceeds for Community Outreach Programs \nAddress: 61 Mill Street Frankford\, ON K0K2C0
URL:https://happyharmonychoir.ca/event/frankford-united-church-community-outreach/
LOCATION:Frankford United Church\, 61 Mill Street \, Frankford \, Ontario\, Canada
END:VEVENT
END:VCALENDAR