BEGIN:VCALENDAR
VERSION:2.0
PRODID:-//Happy Harmony Choir - ECPv6.15.20//NONSGML v1.0//EN
CALSCALE:GREGORIAN
METHOD:PUBLISH
X-ORIGINAL-URL:https://happyharmonychoir.ca
X-WR-CALDESC:Events for Happy Harmony Choir
REFRESH-INTERVAL;VALUE=DURATION:PT1H
X-Robots-Tag:noindex
X-PUBLISHED-TTL:PT1H
BEGIN:VTIMEZONE
TZID:UTC
BEGIN:STANDARD
TZOFFSETFROM:+0000
TZOFFSETTO:+0000
TZNAME:UTC
DTSTART:20210101T000000
END:STANDARD
END:VTIMEZONE
BEGIN:VEVENT
DTSTART;TZID=UTC:20221126T110000
DTEND;TZID=UTC:20221126T130000
DTSTAMP:20260424T222432
CREATED:20221126T021143Z
LAST-MODIFIED:20221127T052002Z
UID:1273-1669460400-1669467600@happyharmonychoir.ca
SUMMARY:Happy Harmony Cobourg - Caroling in the Streets! (Brighton)
DESCRIPTION:Come and hear Happy Harmony Cobourg carol in the streets of Brighton on December 10th from 11am – 1pm!  \nChoir members will meet at the Brighton arena (Main St E). at 11am.
URL:https://happyharmonychoir.ca/event/happy-harmony-cobourg-caroling-in-the-streets-brighton/
LOCATION:ON
END:VEVENT
END:VCALENDAR