BEGIN:VCALENDAR
VERSION:2.0
PRODID:-//Happy Harmony Choir - ECPv6.15.20//NONSGML v1.0//EN
CALSCALE:GREGORIAN
METHOD:PUBLISH
X-WR-CALNAME:Happy Harmony Choir
X-ORIGINAL-URL:https://happyharmonychoir.ca
X-WR-CALDESC:Events for Happy Harmony Choir
REFRESH-INTERVAL;VALUE=DURATION:PT1H
X-Robots-Tag:noindex
X-PUBLISHED-TTL:PT1H
BEGIN:VTIMEZONE
TZID:UTC
BEGIN:STANDARD
TZOFFSETFROM:+0000
TZOFFSETTO:+0000
TZNAME:UTC
DTSTART:20210101T000000
END:STANDARD
END:VTIMEZONE
BEGIN:VEVENT
DTSTART;TZID=UTC:20221120T130000
DTEND;TZID=UTC:20221120T143000
DTSTAMP:20260424T222709
CREATED:20220920T081118Z
LAST-MODIFIED:20220920T081118Z
UID:1249-1668949200-1668954600@happyharmonychoir.ca
SUMMARY:The Smokin' 116 Bistro & Bar
DESCRIPTION:Join Happy Harmony Choir for an afternoon of songs from the 50’s\, 60’s (mostly)\, and a few Christmas songs to get the season rolling! \nThe Smokin’ 116 Bistro & Bar\n116 Pinnacle Street\, Belleville\nSunday\, November 20\, 2022\n1:00 p.m.- 2:30 p.m. with a brief intermission
URL:https://happyharmonychoir.ca/event/the-smokin-116-bistro-bar-2/
LOCATION:ON
END:VEVENT
END:VCALENDAR